BEGIN:VCALENDAR
VERSION:2.0
PRODID:-//wp-events-plugin.com//7.2.3.1//EN
TZID:Australia/Sydney
X-WR-TIMEZONE:Australia/Sydney
BEGIN:VEVENT
UID:2054@unswoc.org
DTSTART:20160826T200000Z
DTEND:20160827T070000Z
DTSTAMP:20160825T074818Z
URL:https://unswoc.org/wordpress/events/get-down-to-the-bouldering-frontli
 nes/
SUMMARY:Get down to the (bouldering) Frontlines!
DESCRIPTION:Hey all\,\n\nVicky\, Bayu and I are running a beginner friendly
  bouldering trip this Saturday! :) We'll be heading to Frontlines https://
 www.thecrag.com/climbing/australia/north-west/the-frontlin which has a hug
 e variety of problems to solve.\n\n\n\nYou don't need any climbing experie
 nce to come along\; just a smile and some cake to share \;)\n\nYou will ne
 ed to bring the following:\n\n	Climbing Shoes*\n	Chalk\n	Lunch\n	At least 
 1.5L water\n	Fuel money for the driver\n\n*Can be borrowed free of charge 
 from the club on Wednesday night (5-6pm).\n\nPlaces are limited to 7 at th
 e moment\, but if you have a car\, or bouldering mats and would like to co
 me along - please message me. We'll organise transport in a facebook messa
 ge once we have everyone signed up.\n\n&nbsp\;\n\nCheers\,\n\nEamonn
ATTACH;FMTTYPE=image/jpeg:https://unswoc.org/wordpress/wp-content/uploads/
 2016/08/bouldering.jpg
CATEGORIES:Bouldering
END:VEVENT
END:VCALENDAR