BEGIN:VCALENDAR
VERSION:2.0
PRODID:-//wp-events-plugin.com//7.2.3.1//EN
TZID:Australia/Sydney
X-WR-TIMEZONE:Australia/Sydney
BEGIN:VEVENT
UID:2240@unswoc.org
DTSTART:20180316T210000Z
DTEND:20180317T070000Z
DTSTAMP:20180315T024629Z
URL:https://unswoc.org/wordpress/events/geronimo-canyon-boree-log-saturday
 /
SUMMARY:Geronimo Canyon - Boree Log Saturday
DESCRIPTION:—BOREE LOG—\n\nBeginner-Intermediate Saturday Canyon\n\nWan
 t to do a sick canyon with some sweet abseils\, maybe a jump\, and all aro
 und beautiful nature-y stuff? Then Geronimo Canyon is for you!\n\nWhile th
 e canyon isn’t particularly tricky\, you still gotta be fit for a steep 
 hike out\, not too scared of heights\, and cool with cold water - let me k
 now your relevant outdoors experience via Facebook comment\, private messa
 ge\, or in the section where you sign up on the webpage.\n\nWhat you’ll 
 need:\n\nLunch\n\n 	A wetsuit**\n 	A harness\n 	A descender (ATC\, figure-
 8) and locking biner\n 	A safety sling and locking biner\n 	A helmet (the 
 club has these\, but a bicycle helmet works fine anyway)**\n 	Water (I rec
 ommend at least 1.5L)\n 	A drybag (these cost about $12\, from Kathmandu/ 
 Anaconda/ Macpac / the internet)\, I’d recommend 15L – 20L if you’re
  interested in getting into canyoning\, but any size is fine. It’s just 
 to keep your clothes and lunch dry\, and maybe camera\n 	A backpack\, arou
 nd 25L in capacity\n 	Well gripping enclosed shoes (I’m looking at you p
 eople thinking about wearing thongs)\, e.g. old running shoes or sneakers.
  Note: these will get dirty and damaged\n 	Wool or synthetic socks (your f
 eet will get cold in cotton socks)\n 	Optional thermals\, wool or syntheti
 c to wear under your wetsuit\, if you’re the kind of person who gets col
 d easily\n 	Shirt and shorts/leggings to walk into the canyon\n 	Maybe a c
 amera\n\nYou can borrow items with a ** from the club\, but as always\, li
 mited availability with Boree Log\, so bringing your own is always a safe 
 bet!\n\nSee ya Sunday!\n\nLove Izzy and Niels\n\n&nbsp\;\n\n&lt\;img src="
 https://i.imgur.com/ekMcvGU.jpg"&gt\;&lt\;/img&gt\;
CATEGORIES:Canyoning
END:VEVENT
END:VCALENDAR