BEGIN:VCALENDAR
VERSION:2.0
PRODID:-//wp-events-plugin.com//7.2.3.1//EN
TZID:Australia/Sydney
X-WR-TIMEZONE:Australia/Sydney
BEGIN:VEVENT
UID:2358@unswoc.org
DTSTART;VALUE=DATE:20190223
DTEND;VALUE=DATE:20190224
DTSTAMP:20190219T210043Z
URL:https://unswoc.org/wordpress/events/geronimo-beginner-intermediate-can
 yon/
SUMMARY:Geronimo - Beginner/Intermediate Canyon
DESCRIPTION:Get keen for a canyon!\n\nThis Saturday Brendon and I will be d
 oing Geronimo canyon. It’ll be a great trip with swims\, abseils and stu
 nning scenery.\n\nWe will be driving up to Mt Wilson on Saturday morning\,
  and planning to come back to Sydney that evening after the canyon. We’l
 l be organising car pooling in the next couple of days.\n\nPeople coming o
 n this trip will need to be able to swim\, and abseiling skills would be g
 ood. But if you haven’t abseiled before and you’re super keen to learn
  then you should sign up\, and just let both of us know. This canyon also 
 requires a decent level of fitness as there is a hilly walk in and out.\n\
 nMake sure to let us know if you have a car if you’re coming on the trip
  – we can only get to this canyon by car so drivers will be given priori
 ty. Any questions message Brendon Yiu or me (Ash Brennan).\n\n&nbsp\;\n\nL
 ist of things you need is below. Note that you need to borrow your own gea
 r from the club. The gear night is tomorrow (Wednesday) night 6 – 6:30 p
 m. If you can’t go to that/miss out\, message Brendon &amp\; I.\n\nCanyo
 ning gear: A harness*\, a helmet*\, a locking carabiner* attached to an AT
 C*\, a second locking carabiner* attached to a safety sling*\, and a third
  locking carabiner* attached to a prusik cord*. Also a wetsuit*\, a drybag
 *\, a torch (preferably headtorch)\, and a backpack that can fit ALL your 
 gear in and that can get wet.\n\n(* - you can borrow these from the gear c
 upboard)\n\nclothing: Enclosed shoes with good grip\, wollen socks\, board
 shorts to wear on top of the wetsuit (this is compulsory if you borrow the
  wetsuit from the club\, to protect it)\, warm clothes such as thermals/ra
 incoat that you’ll put in your dry bag (in case we get stuck you need to
  carry something warm and dry).\n\nFood: 2 l of water\, food or snacks\n\n
 Other gear: sunscreen\, cash ($5-$10) for petrol\, medicines if you need t
 hem (asthma puffer\, etc)\, a pair of flipflops to leave in the car (since
  your shoes will get wet)\, and a phone full of battery.
CATEGORIES:Canyoning
END:VEVENT
END:VCALENDAR