BEGIN:VCALENDAR
VERSION:2.0
PRODID:-//wp-events-plugin.com//7.2.3.1//EN
TZID:Australia/Sydney
X-WR-TIMEZONE:Australia/Sydney
BEGIN:VEVENT
UID:2767@unswoc.org
DTSTART;TZID=Australia/Sydney:20201119T150000
DTEND;TZID=Australia/Sydney:20201119T180000
DTSTAMP:20201117T233037Z
URL:https://unswoc.org/wordpress/events/gear-swap/
SUMMARY:Gear SWAP!
DESCRIPTION:Hello everyone! \nThe club is hosting an opportunity for our me
 mbers to give away\, sell or trade excess gear they may have!\nWe also hav
 e some donations and excess gear/clothes that we are giving away for free 
 (yes\, free)!\nThis event will be hosted at the following times and locati
 ons as below:\n\n 	\n\n 	3:00PM - 4:00PM: Fitzpatrick park\n\n\n\n\n\n 	5:
 00PM - 6:00PM: The Ledge Climbing Centre\n\nIf you have some excess gear\,
  perhaps some old but functional climbing shoes\, an excess rain-jacket th
 at you don't use anymore\, come along and perhaps it can find a new home. 
 We are also open to people selling their gear if they think it has some va
 lue!\nWe are hosting this in two places so that people attending the Ledge
  or the Gear cupboard night can still have a chance to attend \nPlease st
 ay tuned to see what kind of gear the club is donating to members for free
 \, and let us know if you're coming by clicking "Going"!\nAdditionally we 
 will be social distancing at this event and hand sanitiser will be provide
 d! Please respect our efforts and help us out with this when you arrive.\n
 This is available for current UNSWOC members only.\n\nPlease stay up-to-da
 te with the Facebook event as all further information will be posted there
 !\nhttps://www.facebook.com/events/927747074298546/\n\nIf you are attendin
 g the session at Fitzpatrick park please sign up here.\nThe Ledge event wi
 ll act as as sign-ups for the second session.
END:VEVENT
BEGIN:VTIMEZONE
TZID:Australia/Sydney
X-LIC-LOCATION:Australia/Sydney
BEGIN:DAYLIGHT
DTSTART:20201004T030000
TZOFFSETFROM:+1000
TZOFFSETTO:+1100
TZNAME:AEDT
END:DAYLIGHT
END:VTIMEZONE
END:VCALENDAR