BEGIN:VCALENDAR
VERSION:2.0
PRODID:-//wp-events-plugin.com//7.2.3.1//EN
TZID:Australia/Sydney
X-WR-TIMEZONE:Australia/Sydney
BEGIN:VEVENT
UID:2618@unswoc.org
DTSTART;TZID=Australia/Sydney:20200304T180000
DTEND;TZID=Australia/Sydney:20200304T210000
DTSTAMP:20200227T120720Z
URL:https://unswoc.org/wordpress/events/gear-swap-night/
SUMMARY:Gear Swap Night
DESCRIPTION:Is gear something that always breaks the budget? Or maybe you h
 ave piles of rarely used gear stockpiled under your bed? Either way\, this
  is your perfect opportunity to buy/sell/trade some gear!\n\nWe will conve
 ne on the Physics Lawn at 6pm to set up gear and will start swapping by 6:
 30pm. Bring any old gear you wish to sell/trade and cash monies for anythi
 ng you may want to buy. The club will also be selling/giving away a chunk 
 of old gear\, so come along and you might score some sweet deals! So\, fin
 d those old down jackets\, sleeping bags\, that spare chalkbag and bring i
 t along. Anything outdoors related welcome!\n\nNibbles and tunes will be p
 rovided but BYO drinks.\n\nSoft safety gear e.g. harnesses\, draws\, rope 
 etc. are not recommended to be sold/traded/bought\, however it will be up 
 to the discretion of the buyer and seller.\n\nSign up below so we know how
  much food to provide!
ATTACH;FMTTYPE=image/jpeg:https://unswoc.org/wordpress/wp-content/uploads/
 2020/02/88268557_621973071869219_6698901409724628992_n.jpg
CATEGORIES:Social Event
END:VEVENT
BEGIN:VTIMEZONE
TZID:Australia/Sydney
X-LIC-LOCATION:Australia/Sydney
BEGIN:DAYLIGHT
DTSTART:20191006T030000
TZOFFSETFROM:+1000
TZOFFSETTO:+1100
TZNAME:AEDT
END:DAYLIGHT
END:VTIMEZONE
END:VCALENDAR