BEGIN:VCALENDAR
VERSION:2.0
PRODID:-//wp-events-plugin.com//7.2.3.1//EN
TZID:Australia/Sydney
X-WR-TIMEZONE:Australia/Sydney
BEGIN:VEVENT
UID:2732@unswoc.org
DTSTART;TZID=Australia/Sydney:20200821T180000
DTEND;TZID=Australia/Sydney:20200821T213000
DTSTAMP:20200819T000546Z
URL:https://unswoc.org/wordpress/events/gear-stock-take-friday/
SUMMARY:Gear Stock take - Friday
DESCRIPTION:Howdy all\, THE ANNUAL GEAR CLEAN OUT!! The grew crew are going
  to do a gear stocktake this Friday it would be amazing to have some help 
 going through everything and reorganizing the gear shed. Pizza and drinks
  will be provided as a kind incentive for your help (with social distancin
 g an other covid regulations). It would be amazing to get 4 extra club mem
 bers to help out.\n\nMeeting at Sam Cracknell Pavilion at 6 pm\, expect to
  finish at 9 pm.\n\nThank you!!
END:VEVENT
BEGIN:VTIMEZONE
TZID:Australia/Sydney
X-LIC-LOCATION:Australia/Sydney
BEGIN:STANDARD
DTSTART:20200405T020000
TZOFFSETFROM:+1100
TZOFFSETTO:+1000
TZNAME:AEST
END:STANDARD
END:VTIMEZONE
END:VCALENDAR