BEGIN:VCALENDAR
VERSION:2.0
PRODID:-//wp-events-plugin.com//7.2.3.1//EN
TZID:Australia/Sydney
X-WR-TIMEZONE:Australia/Sydney
BEGIN:VEVENT
UID:873@unswoc.org
DTSTART:20150805T070000Z
DTEND:20150805T080000Z
DTSTAMP:20150803T132809Z
URL:https://unswoc.org/wordpress/events/gear-night-2-2015-08-05/
SUMMARY:Gear Night
DESCRIPTION:Hey guys\,\n\nevery Wednesday night we have gear night. Here yo
 u can borrow or return gear\, get club cards and buy club T-shirts. Renti
 ng club gear is free if you planning on taking it on a club trip\, but i
 f you're planning on taking it on a private trip you'll most likely have 
 to pay a fee and deposit\, exact amount can be determined from the link be
 low. Most gear is borrowed for one or two weeks but exceptions can be made
 . The best place to join the club is online at the website. Also club T-sh
 irts are $20. If you have any questions\, post it on the Facebook group or
  email the gear email\, also below.\n\nHope to see you there\n\nhttp://uns
 woc.org/gear/UNSWOCGearPrice.pdf\n\nhttp://unswoc.org/wordpress/\n\ngear@u
 nswoc.org
LOCATION:\, \, 
X-APPLE-STRUCTURED-LOCATION;VALUE=URI;X-ADDRESS=\, ;X-APPLE-RADIUS=100;X-TI
 TLE=:geo:0,0
END:VEVENT
END:VCALENDAR