BEGIN:VCALENDAR
VERSION:2.0
PRODID:-//wp-events-plugin.com//7.2.3.1//EN
TZID:Australia/Sydney
X-WR-TIMEZONE:Australia/Sydney
BEGIN:VEVENT
UID:555@unswoc.org
DTSTART:20141105T060000Z
DTEND:20141105T080000Z
DTSTAMP:20140827T024605Z
URL:https://unswoc.org/wordpress/events/gear-hiringreturning-2014-11-05/
SUMMARY:Gear Hiring/Returning
DESCRIPTION:Hey guys!\n\nIt's that time of the week again where you can hir
 e or return gear back to the gear cupboard under Sam Cracknell. It will b
 e between either 5-6pm or 6-7pm depending on who's at the door. Keep an ey
 e out on the UNSWOC Facebook page for the specific times and whether your 
 favourite gear person will be there :D\n\nSo come down if you need to borr
 ow something or if you have something to return please return it\, otherwi
 se you can expect a phone call.\n\nWe look forward to seeing you!\n\n&nbsp
 \;
LOCATION:\, \, 
X-APPLE-STRUCTURED-LOCATION;VALUE=URI;X-ADDRESS=\, ;X-APPLE-RADIUS=100;X-TI
 TLE=:geo:0,0
END:VEVENT
END:VCALENDAR