BEGIN:VCALENDAR
VERSION:2.0
PRODID:-//wp-events-plugin.com//7.2.3.1//EN
TZID:Australia/Sydney
X-WR-TIMEZONE:Australia/Sydney
BEGIN:VEVENT
UID:3058@unswoc.org
DTSTART;TZID=Australia/Sydney:20220920T170000
DTEND;TZID=Australia/Sydney:20220920T180000
DTSTAMP:20220920T003418Z
URL:https://unswoc.org/wordpress/events/gear-cupboard/
SUMMARY:Gear Cupboard
DESCRIPTION:*This week the Gear Cupboard will be moved back to Tuesday 5-6p
 m because of the public holiday on Thursday*\n\nThis term (Term 3 2022) th
 e gear cupboard will try to be run on Thursdays before the ledge\, however
 \, due to the current unpredictability of the gear nights because of ongoi
 ng construction works\, public holidays and access issues Gear night will 
 now be shown as an event!\n\nCome to hire some gear\, return equipment or 
 just say hi!\n\nThe location of the gear cupboard is here\, on the outsid
 e of Sam Cracknell Pavillion. If you get lost or want more information\, j
 ust send me a message :)\n\n&nbsp\;\n\nPlease check out the UNSWOC Faceboo
 k page for a reminder or any slight changes in time each week. The club p
 eriodically does a stock take and the most recent information is availabl
 e here.\n\n&nbsp\;\n
CATEGORIES:Social Event
END:VEVENT
BEGIN:VTIMEZONE
TZID:Australia/Sydney
X-LIC-LOCATION:Australia/Sydney
BEGIN:STANDARD
DTSTART:20220403T020000
TZOFFSETFROM:+1100
TZOFFSETTO:+1000
TZNAME:AEST
END:STANDARD
END:VTIMEZONE
END:VCALENDAR