BEGIN:VCALENDAR
VERSION:2.0
PRODID:-//wp-events-plugin.com//7.2.3.1//EN
TZID:Australia/Sydney
X-WR-TIMEZONE:Australia/Sydney
BEGIN:VEVENT
UID:3176@unswoc.org
DTSTART;TZID=Australia/Sydney:20230119T173000
DTEND;TZID=Australia/Sydney:20230119T183000
DTSTAMP:20230119T011207Z
URL:https://unswoc.org/wordpress/events/gear-cupboard-3/
SUMMARY:Gear Cupboard
DESCRIPTION:During term the gear cupboard is typically run on Thursdays bef
 ore the ledge. Due to availability of the gear officers\, the timings each
  week will vary slightly so be sure to check the club calendar for updated
  timings!\n\nPlease also check out the UNSWOC Facebook page for a reminde
 r or any slight changes in time each week. The club periodically does a st
 ock take and the most recent information is available here.\n\nCome to hi
 re some gear\, return equipment or just say hi!\n\nRemember to bring CASH 
 for your deposits \n\nThe location of the gear cupboard is here\, on the
  outside of Sam Cracknell Pavillion. If you get lost or want more informat
 ion\, just send me a message :)\n\n&nbsp\;\n
CATEGORIES:Social Event
END:VEVENT
BEGIN:VTIMEZONE
TZID:Australia/Sydney
X-LIC-LOCATION:Australia/Sydney
BEGIN:DAYLIGHT
DTSTART:20221002T030000
TZOFFSETFROM:+1000
TZOFFSETTO:+1100
TZNAME:AEDT
END:DAYLIGHT
END:VTIMEZONE
END:VCALENDAR