BEGIN:VCALENDAR
VERSION:2.0
PRODID:-//wp-events-plugin.com//7.2.3.1//EN
TZID:Australia/Sydney
X-WR-TIMEZONE:Australia/Sydney
BEGIN:VEVENT
UID:3059@unswoc.org
DTSTART;TZID=Australia/Sydney:20220929T173000
DTEND;TZID=Australia/Sydney:20220929T181500
DTSTAMP:20220925T234830Z
URL:https://unswoc.org/wordpress/events/gear-cupboard-2/
SUMMARY:Gear Cupboard
DESCRIPTION:This term (Term 3 2022) the gear cupboard will try to be run on
  Thursdays before the ledge\, however\, due to the current unpredictabilit
 y of the gear nights because of ongoing construction works\, public holida
 ys and access issues Gear night will now be shown as an event!\n\nCome to 
 hire some gear\, return equipment or just say hi!\n\nThe location of the g
 ear cupboard is here\, on the outside of Sam Cracknell Pavillion. If you 
 get lost or want more information\, just send me a message :)\n\n&nbsp\;\n
 \nPlease check out the UNSWOC Facebook page for a reminder or any slight 
 changes in time each week. The club periodically does a stock take and the
  most recent information is available here.\n\n&nbsp\;\n
CATEGORIES:Social Event
END:VEVENT
BEGIN:VTIMEZONE
TZID:Australia/Sydney
X-LIC-LOCATION:Australia/Sydney
BEGIN:STANDARD
DTSTART:20220403T020000
TZOFFSETFROM:+1100
TZOFFSETTO:+1000
TZNAME:AEST
END:STANDARD
END:VTIMEZONE
END:VCALENDAR