BEGIN:VCALENDAR
VERSION:2.0
PRODID:-//wp-events-plugin.com//7.2.3.1//EN
TZID:Australia/Sydney
X-WR-TIMEZONE:Australia/Sydney
BEGIN:VEVENT
UID:3582@unswoc.org
DTSTART;TZID=Australia/Sydney:20250514T180000
DTEND;TZID=Australia/Sydney:20250514T220000
DTSTAMP:20250503T051558Z
URL:https://unswoc.org/wordpress/events/games-night-v2/
SUMMARY:Games Night V2
DESCRIPTION:\nHowdy\,\nIn lieu of the devastating closure of the ledge in M
 ay\, games night is on to ensure your social battery continues to be drain
 ed.\n\nCome along to Wayward Brewing from 6pm onwards on the 14th of May f
 or a Bev\, some yarns and some highly competitive board gaming / cards. Th
 is is a great opportunity to meet some new people from the club and learn 
 a thing or two about poker (the trick is to have no idea what you’re doi
 ng).\n\nFeel free to bring along board games and friends - you do not need
  to be a club member! this is an open invite to both existing and prospect
 ive club members. Other uni outdoor clubs will also be extended an invite.
 \n\nKeen to see you all there\,\n\nEmily\n\n&nbsp\;\n\n&nbsp\;
CATEGORIES:Social Event
LOCATION:https://maps.app.goo.gl/efZ1HgQ9KArhDE5s8?g_st=com.google.maps.pre
 view.copy
END:VEVENT
BEGIN:VTIMEZONE
TZID:Australia/Sydney
X-LIC-LOCATION:Australia/Sydney
BEGIN:STANDARD
DTSTART:20250406T020000
TZOFFSETFROM:+1100
TZOFFSETTO:+1000
TZNAME:AEST
END:STANDARD
END:VTIMEZONE
END:VCALENDAR