BEGIN:VCALENDAR
VERSION:2.0
PRODID:-//wp-events-plugin.com//7.2.3.1//EN
TZID:Australia/Sydney
X-WR-TIMEZONE:Australia/Sydney
BEGIN:VEVENT
UID:2224@unswoc.org
DTSTART;VALUE=DATE:20180318
DTEND;VALUE=DATE:20180319
DTSTAMP:20180308T221945Z
URL:https://unswoc.org/wordpress/events/gambe-part-2-boree-log-march-2018/
SUMMARY:The 'Gambe part 2 - Sunday - BOREE LOG MARCH 2018
DESCRIPTION:Sunday of Boree Log\; a time of much regret at your abilities t
 o gauge how many standard drinks are in the Punch of Punishment. But fear 
 not! Nathan and I are your salvation.\n\nWe'll be taking you down Wollanga
 mbe Canyon #2\, Basically this trip involves walking down a big hill\, blo
 wing up a mattress and floating down the river\, then getting out and walk
 ing back up a big hill (with some scrambling over rocks where there is not
  enough water to swim. So while it's a cruisy day a relatively good level 
 of fitness is still required and being able to swim is a MUST.\n\nYou will
  need to bring:\n\n 	Lunch\n 	Water (I recommend at least 2L)\n 	A drybag 
 (these cost about $12\, from Kathmandu/ Anaconda/ Macpac / the internet)\,
  I’d recommend 15L – 20L if your interested in getting into canyoning\
 , but any size is fine. It’s just to keep your clothes and lunch dry\, a
 nd maybe camera\n 	A backpack\, around 25L in capacity\n 	A wetsuit (you c
 an borrow one from the club)\n 	Board Shorts to wear over your wetsuit (to
  protect the wetsuit)\n 	A helmet (the club has these)\n 	Well gripping en
 closed shoes (I’m looking at you people thinking about wearing thongs)\,
  e.g. old running shoes or sneakers. Note: these will get extremely dirty 
 and damaged\n 	Wool or synthetic socks (your feet will get cold in cotton 
 socks)\n 	Thermals\, wool or synthetic to wear under your wetsuit\, if you
 ’re the kind of person who gets cold easily\n 	A lilo (the club has thes
 e but be warned\, you are somewhat likely to get a surprise deflation\, he
 nce being able to swim is very important)\n
CATEGORIES:Boree Log,Canyoning
END:VEVENT
END:VCALENDAR