BEGIN:VCALENDAR
VERSION:2.0
PRODID:-//wp-events-plugin.com//7.2.3.1//EN
TZID:Australia/Sydney
X-WR-TIMEZONE:Australia/Sydney
BEGIN:VEVENT
UID:2179@unswoc.org
DTSTART:20171006T030000Z
DTEND:20171006T123000Z
DTSTAMP:20171003T031425Z
URL:https://unswoc.org/wordpress/events/full-moon-hike/
SUMMARY:Full-moon-hike
DESCRIPTION:The full moon is out and sooo are the LUNA--tics!\n\nCome on a 
 full moon hike this Friday night in the Royal National Park.\n\nPlan is to
  catch 3.30 ferry from Cronulla ( so either driving from UNI at 2ish or me
 eting us at the Cronulla ferry)\n\nStart walking at 4pm\, enjoy some arvo 
 sunlight and sunset and then walk in the full moon for the rest :)\n\nWe w
 ill walk the whole thing - maybe run some of the downhills -its around 30k
 m so you really need to be fit and up to a challenge :)  - (the last trai
 n from Oxford is 11.53pm) -\n\nYOU will need\n\n-head torch\,\n\n-snacks/ 
 food\,\n\n-a lightweight camping stove if you want to make yourself some t
 ea/ coffee at the break ( i will bring one) YOUR best walking/ running sho
 es\,\n\n-swimmers/towel in case we/you decide to go for a quick dip ( but 
 might be cold)\n\nIf you can drive let me know  in the comments section w
 hen you sign up- we will park in Cronulla :)  if there arn't enough lifts
  people can catch a train to and from central :)\n\nCheer Guys!\nManon\n\n
 &nbsp\;\n\n&nbsp\;
CATEGORIES:Hectic Hiking
END:VEVENT
END:VCALENDAR