BEGIN:VCALENDAR
VERSION:2.0
PRODID:-//wp-events-plugin.com//7.2.3.1//EN
TZID:Australia/Sydney
X-WR-TIMEZONE:Australia/Sydney
BEGIN:VEVENT
UID:1451@unswoc.org
DTSTART:20150828T220000Z
DTEND:20150829T020000Z
DTSTAMP:20150826T025959Z
URL:https://unswoc.org/wordpress/events/frontlines-bouldering/
SUMMARY:Frontlines Bouldering
DESCRIPTION:Hey guys and gals\, Jarrod and I (Vicky) are running a boulderi
 ng trip to Frontlines in North Rocks. There's heaps of stuff from V0-V11\,
  so there will be plenty for everyone to jump on and have a good time. It'
 s going to be an early start from 9am until whenever you please\, but most
  likely around midday.\n\n&nbsp\;\n\n What to bring:\n\n\n * Climbing shoe
 s &amp\; chalk \n\n* Food\, snacks &amp\; water \n\n* Bouldering mats if y
 ou have any - Jarrod and I will both be bringing some mats but you can nev
 er have too many. Frontlines is a pretty large bouldering area so there's 
 plenty of space to move around. \n\n&nbsp\;\n\nGetting there: \n\n(By car)
  Frontlines is best accessed by car. I find it easiest to navigate to 4 La
 rra Crescent\, North Rocks\, and then walk down the path next to the house
  with a mini red fire truck out front. From there about 30m along there is
  a well worn path down the hill with a small creek on your right\, follow 
 this path for about 50m. When you hit the cliff-line turn left and scrambl
 e down wherever you please\, this is the Frontline area (directions courte
 sy of the Crag). Alternatively give either Jarrod or I a buzz if you arriv
 e at a different time and we can come find you. If you can drive please me
 ssage either of us so we can arrange some sort of car pooling. Driving is 
 probably the most convenient way to get to the crag.\n\n(By bus)\n\nAltern
 atively take a Hills bus from Townhall to the M2 - Barclay Road Interchang
 e bus stop and then it is a 15 minute walk. 131500.com is the best place t
 o go to for bus numbers and times.\n\n&nbsp\;\n\nTHE CLIMBS\n\nCheck out t
 he Crag's guide to the Frontlines area to suss out all the climbs.\nOnce n
 umbers are confirmed\, we'll create a facebook group to finalise car pooli
 ng etc.\n\nCheers!
CATEGORIES:Outdoor Climbing
LOCATION:\, \, 
X-APPLE-STRUCTURED-LOCATION;VALUE=URI;X-ADDRESS=\, ;X-APPLE-RADIUS=100;X-TI
 TLE=:geo:0,0
END:VEVENT
END:VCALENDAR