BEGIN:VCALENDAR
VERSION:2.0
PRODID:-//wp-events-plugin.com//7.2.3.1//EN
TZID:Australia/Sydney
X-WR-TIMEZONE:Australia/Sydney
BEGIN:VEVENT
UID:2362@unswoc.org
DTSTART:20190308T220000Z
DTEND:20190309T030000Z
DTSTAMP:20190305T220821Z
URL:https://unswoc.org/wordpress/events/frontlines-bouldering-2/
SUMMARY:Frontlines bouldering
DESCRIPTION:Hey everyone\,\n\nFelix and I are running bouldering at the fro
 ntlines this Saturday. It's got heaps of problems from V0 to V10.\n\nMeeti
 ng at unsw 9am or frontlines (park on Larra Crescent\, North Rocks) at 10i
 sh.\n\nMore details on frontlines here: https://www.thecrag.com/climbing/a
 ustralia/north-west/the-frontline\n\nPlease let us know if you have a car 
 and roughly where you live.\n\nWe'll be bringing some bouldering mats but 
 if you have your own please bring it! You'll need climbing shoes and chalk
 . Also food and water is helpful\, and clothing is preferable.\n\nCheers\,
 \nBrendan\n
CATEGORIES:Bouldering
END:VEVENT
END:VCALENDAR