BEGIN:VCALENDAR
VERSION:2.0
PRODID:-//wp-events-plugin.com//7.2.3.1//EN
TZID:Australia/Sydney
X-WR-TIMEZONE:Australia/Sydney
BEGIN:VEVENT
UID:3563@unswoc.org
DTSTART;TZID=Australia/Sydney:20250329T103000
DTEND;TZID=Australia/Sydney:20250329T130000
DTSTAMP:20250327T233127Z
URL:https://unswoc.org/wordpress/events/frontline-bouldering/
SUMMARY:[postponed until later date] Frontline Bouldering Week 6 Sat
DESCRIPTION:Hey guys and gals\, Marley and I (Steve) are running a boulderi
 ng trip to Frontlines in North Rocks. There’s heaps of stuff from V0-V11
 \, so there will be plenty for everyone to jump on and have a good time. I
 t’s going to be an early start from 10:30am until whenever you please\, 
 but most likely around 2-3 hours climb. \n\n&nbsp\;\n\nWhat to bring: \n\n
 * Climbing shoes &amp\; chalk \n\n* Food\, snacks &amp\; water \n\n* Bould
 ering mats if you have any – marley and I will both be bringing some mat
 s but you can never have too many. \n\n&nbsp\;\n\nFrontlines is a pretty l
 arge bouldering area so there’s plenty of space to move around. Getting 
 there: (By car) Frontlines is best accessed by car. I find it easiest to n
 avigate to 4 Larra Crescent\, North Rocks\, and then walk down the path ne
 xt to the house with a mini red fire truck out front. From there about 30m
  along there is a well worn path down the hill with a small creek on your 
 right\, follow this path for about 50m. When you hit the cliff-line turn l
 eft and scramble down wherever you please\, this is the Frontline area (di
 rections courtesy of the Crag). \n\n&nbsp\;\n\nAlternatively give either m
 arley or I a buzz if you arrive at a different time and we can come find y
 ou. If you can drive please message either of us so we can arrange some so
 rt of car pooling. Driving is probably the most convenient way to get to t
 he crag. (By bus) Alternatively take a Hills bus from Townhall to the M2 
 – Barclay Road Interchange bus stop and then it is a 15 minute walk.\n\n
 \n&nbsp\;\n\nIn the comments lemme know where you usually climb and how lo
 ng youve done it for.\n\n&nbsp\;\n\nTHE CLIMBS Check out the Crag’s guid
 e to the Frontlines area to suss out all the climbs. \n\nOnce numbers are 
 confirmed\, we’ll create a facebook group to finalise car pooling etc. \
 n\n&nbsp\;\n\nCheers!
CATEGORIES:Climbing
LOCATION:http://-33.763811,151.010006
END:VEVENT
BEGIN:VTIMEZONE
TZID:Australia/Sydney
X-LIC-LOCATION:Australia/Sydney
BEGIN:DAYLIGHT
DTSTART:20241006T030000
TZOFFSETFROM:+1000
TZOFFSETTO:+1100
TZNAME:AEDT
END:DAYLIGHT
END:VTIMEZONE
END:VCALENDAR