BEGIN:VCALENDAR
VERSION:2.0
PRODID:-//wp-events-plugin.com//7.2.3.1//EN
TZID:Australia/Sydney
X-WR-TIMEZONE:Australia/Sydney
BEGIN:VEVENT
UID:2291@unswoc.org
DTSTART:20180929T190000Z
DTEND:20180930T070000Z
DTSTAMP:20180926T114918Z
URL:https://unswoc.org/wordpress/events/frontline-beginner-bouldering/
SUMMARY:Frontline Beginner Bouldering
DESCRIPTION:Hey guys\,\n\nWe'll be running a beginner bouldering (no exper
 ience necessary) trip this Sunday at Frontlines (click for more info). Bou
 ldering is a fun introduction to outdoor climbing :)\n\nWhat you'll need t
 o bring:\n\n 	Sunscreen\n 	Climbing shoes (if you have them) or other shoe
 s to climb in\n 	Chalk (if you have it)\n 	Lunch\n 	Water (approximately 2
 L)\n 	Jumper (it may get a bit cold)\n 	Snacks\n\nWe are one car short at 
 the moment (so message if you have a car!). Message me if you have any que
 stions.\n\nCheers\,\n\nEamonn
CATEGORIES:Bouldering
END:VEVENT
END:VCALENDAR