BEGIN:VCALENDAR
VERSION:2.0
PRODID:-//wp-events-plugin.com//7.2.3.1//EN
TZID:Australia/Sydney
X-WR-TIMEZONE:Australia/Sydney
BEGIN:VEVENT
UID:2989@unswoc.org
DTSTART;TZID=Australia/Sydney:20220331T180000
DTEND;TZID=Australia/Sydney:20220331T193000
DTSTAMP:20220325T011152Z
URL:https://unswoc.org/wordpress/events/from-inside-to-outside-trad/
SUMMARY:From inside to outside - trad
DESCRIPTION:I know its been really wet\, but still psyched to skill up? wan
 t to go to Araps over Easter  (the answer is always yes)? Need to know ho
 w to plug cams and sink nuts?\n\nHere is a two part trad climbing workshop
 :\n\nFirst inside on Thursday the 31st March and then outside on Sunday th
 e 3rd (with a back up 9th/10th depending on the weather)\n\nThursday will 
 be at the ledge from 6-7:30 and Sunday will be a whole day in the mountain
 s.\n\nThe idea is that you attend both so when you sign up please comment 
 to confirm this.\n\n&nbsp\;\n(Jenny\, Mac and Maria at Frog Buttress)\n&nb
 sp\;\n(Sammy at Araps)\n&nbsp\;\n\nIdeally you will know how to lead belay
  and lead climb (even just indoors). There will be a lead workshop on Sund
 ay the 27th if you need to learn.\n\nPlease let me know if you have a car\
 , how many spots and where from in the comments.\n\nIf you have any questi
 ons or you are just super keen please just shoot me a message on Facebook 
 (Mira Bug)\n\nGet Keen!!\n\n&nbsp\;\n\n&nbsp\;\n\n&nbsp\;\n\n&nbsp\;\n\n&n
 bsp\;\n\n(be aware that I cannot take everyone\, sorry in advance you don'
 t get a spot!)\n\n&nbsp\;
ATTACH;FMTTYPE=image/jpeg:https://unswoc.org/wordpress/wp-content/uploads/
 2021/01/C2138458-2FC9-42E4-87A2-0C6C8737C794-miranda-jordan.jpeg
END:VEVENT
BEGIN:VTIMEZONE
TZID:Australia/Sydney
X-LIC-LOCATION:Australia/Sydney
BEGIN:DAYLIGHT
DTSTART:20211003T030000
TZOFFSETFROM:+1000
TZOFFSETTO:+1100
TZNAME:AEDT
END:DAYLIGHT
END:VTIMEZONE
END:VCALENDAR