BEGIN:VCALENDAR
VERSION:2.0
PRODID:-//wp-events-plugin.com//7.2.3.1//EN
TZID:Australia/Sydney
X-WR-TIMEZONE:Australia/Sydney
BEGIN:VEVENT
UID:3057@unswoc.org
DTSTART;TZID=Australia/Sydney;VALUE=DATE:20220923
DTEND;TZID=Australia/Sydney;VALUE=DATE:20220924
DTSTAMP:20220920T114851Z
URL:https://unswoc.org/wordpress/events/friday-multipitch-climbing-interme
 diate/
SUMMARY:FRIDAY - Intro to Multi-pitch Climbing (Intermediate)
DESCRIPTION:&nbsp\;\n\n\n\nHello adventurers\,\n\nI will be leading a trip 
 on Friday to introduce you to the world of multipitch climbing. Depending 
 on your experience and interest\, we can also cover trad multipitch climbi
 ng.\n\nYou must have a reasonable level of climbing experience to make the
  most out of this trip. Ideally\, you are comfortable with lead climbing i
 ndoors at about grade 17-18\, are a confident belayer\, have climbed outdo
 ors and are psyched to get on some of the bigger walls out there.\n\nThe l
 ocation will be chosen closer to the date based on the weather forecast. I
 f the forecast is good in the Blue Mountains\, then we'll head to Reservoi
 r Dogs Wall (sport multis) or Mount Boyce (trad multis) where there are a 
 range of quality multipitch routes.\n\nWe will start the day at 10 or 11am
  on Friday morning in the Blue Mountains and be there until nightfall. We 
 can arrange carpooling from Sydney but if you are travelling by public tra
 nsport\, we can arrange to pick you up from the train station.\n\nPlease i
 nclude in the comments: your climbing experience\, your favourite route th
 at you've climbed outdoors and whether you are able to drive. Any gear tha
 t you require must be collected independently from the gear cupboard at UN
 SW on the regular gear night.\n\n 	Gear required: harness\, helmet\, climb
 ing shoes\, ATC guide (suitable for top belay) + carabiners (if you have y
 our own make sure you bring it!!!)\, (optional: climbing tape or crack glo
 ves to protect your hands)\n 	What to bring: sunscreen\, 2L water (minimum
 !)\, food for the day\, sporty clothes\, a warm jacket\, rain jacket\, a d
 ay backpack to fit all your stuff inside\, smiles\, etc.\n 	Meeting point:
  10 or 11am TBC\n\n&nbsp\;\n\nPlease be aware that as the weather is unpre
 dictable\, trip leaders may need to alter trips accordingly. If you have a
 ny questions\, feel free to message me on FB (Tad Karapetian).\n\n&nbsp\;\
 n\nSee you there\,\n\nTad
CATEGORIES:Climbing,Outdoor Climbing
END:VEVENT
BEGIN:VTIMEZONE
TZID:Australia/Sydney
X-LIC-LOCATION:Australia/Sydney
BEGIN:STANDARD
DTSTART:20220403T020000
TZOFFSETFROM:+1100
TZOFFSETTO:+1000
TZNAME:AEST
END:STANDARD
END:VTIMEZONE
END:VCALENDAR