BEGIN:VCALENDAR
VERSION:2.0
PRODID:-//wp-events-plugin.com//7.2.3.1//EN
TZID:Australia/Sydney
X-WR-TIMEZONE:Australia/Sydney
BEGIN:VEVENT
UID:2342@unswoc.org
DTSTART;VALUE=DATE:20181123
DTEND;VALUE=DATE:20181124
DTSTAMP:20181119T135547Z
URL:https://unswoc.org/wordpress/events/friday-intermediate-climbing-bell-
 supercrag/
SUMMARY:[FRIDAY] - Intermediate Climbing at Bell Supercrag
DESCRIPTION:Hello Crushers\,\n\nAidan and I will be leading an intermediate
  climbing trip to Bell Supercrag in the Blue Mountains this Friday before 
 Boree Log officially commences. Getting in and out of Bell supercrag invol
 ves a 1 hour hike with stunning views each way.\n\nThis is an intermediate
  climbing trip meaning you must be confident in climbing grade 18 outdoors
  and preferably know how to lead climb.\n\nPlease write in the comments or
  send me a message on facebook telling me your climbing experience\, wheth
 er you will be driving and what gear you need. We will obtain any gear tha
 t you require but you must tell me what you need asap.\n\n 	Gear: harness
 \, helmet\, climbing shoes (you must have your own)\, ATC + carabiner (if 
 you have your own make sure you bring it).\n 	What to bring: sunscreen\, 
 2L water\, food for the day\, sporty-warm clothes\, a day backpack to fit 
 all your stuff inside\, camera\, etc.\n 	Meeting point: We will make arra
 ngements.\n\nSee you there\,\n\nTad Karapetian
CATEGORIES:Outdoor Climbing
END:VEVENT
END:VCALENDAR