BEGIN:VCALENDAR
VERSION:2.0
PRODID:-//wp-events-plugin.com//7.2.3.1//EN
TZID:Australia/Sydney
X-WR-TIMEZONE:Australia/Sydney
BEGIN:VEVENT
UID:3404@unswoc.org
DTSTART:20240315T070000Z
DTEND:20240315T101500Z
DTSTAMP:20240311T051618Z
URL:https://unswoc.org/wordpress/events/friday-bl-530pm-arc-bus-to-cathedr
 al-of-ferns/
SUMMARY:FRIDAY BL - 6:00pm ARC BUS TO CATHEDRAL OF FERNS
DESCRIPTION:You need to be approved for the main OR camping Boree Log event
  to attend. Please be aware that as the weather is\nunpredictable\, trip 
 leaders may need to alter trips accordingly\n\n&nbsp\;\n\nThis coming week
 end Zee\, Cindy and the ARC bus will be moseying from campus to Boree Log 
 and back.\n\nWe hope to travel with less steam than last year and depart f
 rom behind the UNSW Gear Cupboard at 6:00PM on Friday evening. It is open 
 to all attendees of Boree Log. Please note\, the bus has limited seats and
  preference will be given to participants doing activities on the weekend 
 (not just camping). Return trips back to Sydney will be organised on the w
 eekend\, based on your Sunday trip! I will set up a group chat once passen
 gers are confirmed.\n\nThis is a beginner friendly trip that will involve 
 sitting\, chatting and potentially napping. There will be no ropework on t
 his trip\, and is suitable for energetic and enthusiastic passengers of al
 l skill levels. Sign ups are available below\, please bring $10 cash to co
 ntribute for fuel!\n\nYou need to be approved for the main Boree Log event
  / Boree Log Camping event to attend this trip. If you get rejected there 
 will be transport alternatives/carpooling (LINK HERE). Please include in 
 the comment: your favourite keyboard key (just so we know you have read al
 l of this information).\n&nbsp\;\n***Please note this is not an actual tri
 p\, just a booking form for those who need a lift from UNSW to Cathedral o
 f Ferns***\n\nLet me know if you have any questions!\n\nCheers\,\n\n&nbsp\
 ;\n\nZee
ATTACH;FMTTYPE=image/jpeg:https://unswoc.org/wordpress/wp-content/uploads/
 2024/03/393234433_825646672670792_5617844866448644668_n.jpg
CATEGORIES:Boree Log
LOCATION:https://maps.app.goo.gl/e9d87B2etydoTQSR8
END:VEVENT
END:VCALENDAR