BEGIN:VCALENDAR
VERSION:2.0
PRODID:-//wp-events-plugin.com//7.2.3.1//EN
TZID:Australia/Sydney
X-WR-TIMEZONE:Australia/Sydney
BEGIN:VEVENT
UID:2356@unswoc.org
DTSTART;VALUE=DATE:20190215
DTEND;VALUE=DATE:20190216
DTSTAMP:20190214T065919Z
URL:https://unswoc.org/wordpress/events/friday-beginners-rock-climbing-tri
 p-shipley-upper/
SUMMARY:TRIP FULL Friday - Beginner's Rock Climbing Trip - Shipley Upper
DESCRIPTION:G’day friends\,\n\nNikki and I [Tadeh] will be leading a rock
  climbing trip to Shipley Upper in the Blue Mountains on Friday.\n\nNo out
 door climbing experience is required as we’ll be setting up top ropes. W
 e will teach you the basics of how to safely climb outdoors but it is pref
 erred that you have a basic level of competency with indoor rock climbing.
  The easiest climbs are between grade 16 and 18.\n\nPlease include in the 
 comments:\n\n 	Your rock climbing experience/grade\;\n 	Whether you are ab
 le to drive\;\n 	Your favourite mountain in the world\; and\n 	What gear y
 ou already own.\n\nWe will meet up at 11:00am on Friday morning at the car
 park on Centennial Glen Rd\, Blackheath or you can meet us at the crag if 
 you arrive late. I will collect any gear that you need and bring it up wit
 h me.\n\n 	Gear required: harness\, helmet\, climbing shoes\, ATC + carab
 iner (if you have your own make sure you bring it!!!).\n 	What to bring: 
 sunscreen\, at least 2L of water\, food for the day\, sporty clothes\, a d
 ay backpack to fit all your stuff inside\, camera\, smiles etc.\n 	Meeting
  point: 11:00am at carpark on Centennial Glen Rd\, Blackheath.\n\nI will 
 be driving up so we may be able to carpool. You are invited to camp at nig
 ht with us in the Blue Mountains after our day of climbing but you will ne
 ed to be self sufficient.\n\nSee you there!\n\nTad Karapetian
CATEGORIES:Outdoor Climbing
END:VEVENT
END:VCALENDAR