BEGIN:VCALENDAR
VERSION:2.0
PRODID:-//wp-events-plugin.com//7.2.3.1//EN
TZID:Australia/Sydney
X-WR-TIMEZONE:Australia/Sydney
BEGIN:VEVENT
UID:2442@unswoc.org
DTSTART;TZID=Australia/Sydney;VALUE=DATE:20190726
DTEND;TZID=Australia/Sydney;VALUE=DATE:20190727
DTSTAMP:20190722T073642Z
URL:https://unswoc.org/wordpress/events/friday-beginners-climbing-bangor-w
 est/
SUMMARY:Friday - Beginners' Climbing [Bangor West]
DESCRIPTION:Hey there crushers\,\n\nBojana and I [Tadeh] will be leading a 
 rock climbing trip to Bangor West in Sydney on Friday.\n\nNo outdoor climb
 ing experience is required as we’ll be setting up top ropes. We will tea
 ch you the basics of how to safely climb outdoors but it is preferred that
  you have a basic level of competency with indoor rock climbing. The easie
 st climbs are between grade 15 and 18.\n\nPlease include in the comments:\
 n\n 	Your rock climbing experience/grade\;\n 	Whether you are able to driv
 e\;\n 	If you're a dog or cat person\; and\n 	What climbing gear you alrea
 dy own.\n\nWe will aim to be at the crag at 9:00am. We will organise carpo
 oling through private message. We may be able to collect gear for you from
  the club's gear cupboard if you do not own everything or you can go ahead
  and hire it yourself at gear night. (Climbing shoes cannot be borrowed fr
 om the club).\n\n 	Gear required: harness\, helmet\, climbing shoes\, ATC
  + carabiner (if you have your own make sure you bring it!!!).\n 	What to 
 bring: At least 1.5L of water\, food for the day\, sporty and warm clothes
  [IT WILL BE COLD!]\, a day backpack to fit all your stuff inside\, smiles
  etc.\n 	Meeting point: 10:00am at Adaluma Ave\, Bangor West. Check the fo
 llowing link for instructions on where to go and where to park. https://ww
 w.thecrag.com/climbing/australia/sutherland/area/13083847\n\nSee you there
 !\n\nTadeh and Bojana
CATEGORIES:Outdoor Climbing
END:VEVENT
BEGIN:VTIMEZONE
TZID:Australia/Sydney
X-LIC-LOCATION:Australia/Sydney
BEGIN:STANDARD
DTSTART:20190407T020000
TZOFFSETFROM:+1100
TZOFFSETTO:+1000
TZNAME:AEST
END:STANDARD
END:VTIMEZONE
END:VCALENDAR