BEGIN:VCALENDAR
VERSION:2.0
PRODID:-//wp-events-plugin.com//7.2.3.1//EN
TZID:Australia/Sydney
X-WR-TIMEZONE:Australia/Sydney
BEGIN:VEVENT
UID:2143@unswoc.org
DTSTART:20170411T083000Z
DTEND:20170411T110000Z
DTSTAMP:20170403T063024Z
URL:https://unswoc.org/wordpress/events/free-beer-pizza-post-boree-gear-cl
 ean-night/
SUMMARY:Free beer and pizza post Boree gear clean up night
DESCRIPTION:Hey everybody!\n\nI hope you all enjoyed Boree log immensely! U
 nfortunately it left the gear shed in a big mess which needs to be cleaned
  up so that you can hire gear again.\n\nThe plan:\n\n	Arrive at 7:30pm\, t
 uesday\, at the gear shed (sam cracknell pavillion)\n	People with cars dri
 ve to the tram shed (king street\, 10min drive) and pick up the gear from 
 the trailer there.\n	some people stay there to pack away gear at the tram 
 shed\n	When the gear arrives at the gear shed\, the remaining people repac
 k everything nicely into the shed there.\n	GORGE ON PIZZA AND BEER! (peopl
 e who show only up for this wont get any :P )\n	go home happy and full\n	B
 e able to hire gear for your easter holidays!\n\nWhat we need:\n\n	lots of
  happy helpers!\n	DRIVERS! We will need a few people who can shuffle peopl
 e and gear between the gear and the tram shed. Please let me know if you h
 ave a car!\n\nHelp is really greatly appreciated! Without helpers like you
  the club wouldn't be able to run. We count on you. :)\n\nIf everybody hel
 ps\, this shouldnt take too long and is actually quite fun as you get some
  quality time with your fellow outdoor peeps (and pizza and beer\, really\
 , what else could you possibly want?).\n\nSee ya all there!\n\nSteffi\n\n&
 nbsp\;
END:VEVENT
END:VCALENDAR