BEGIN:VCALENDAR
VERSION:2.0
PRODID:-//wp-events-plugin.com//7.2.3.1//EN
TZID:Australia/Sydney
X-WR-TIMEZONE:Australia/Sydney
BEGIN:VEVENT
UID:1481@unswoc.org
DTSTART;VALUE=DATE:20151101
DTEND;VALUE=DATE:20151102
DTSTAMP:20151028T091134Z
URL:https://unswoc.org/wordpress/events/fortress-beginners-canyon/
SUMMARY:Boree Log - Fortress - Beginner's Canyon
DESCRIPTION:&nbsp\;\n\nFor anyone who wants to give canyoning a try\, Fortr
 ess Canyon is a short beginner level canyon. Check out the oz ultimate for
  a description and pics:\n\nhttp://ozultimate.com/canyoning/track_notes/fo
 rtress.htm\n\nThing you'll need\, these can all be borrowed from the club 
 at Boree Log but if you have your own bring it so that there's enough gear
  to go around.\n\n	Wetsuit\n	Helmet\n	Harness\n	Carabina\n	Belay device\n\
 nYou'll also need enclosed shoes and a backpack you're willing to get wet.
  If you own a drybag it'll prove very useful. Bring along some lunch to ha
 ve at the end of the canyon\, it has a pretty incredible view. The canyon 
 has some long swims in it\, so be prepared for some pretty chilly times.\n
 \nWe'll leave from boree Sunday morning\, canyon and then head straight ba
 ck to Sydney. Fortress can be can quite quick\, depending on how we go the
 re is potential to do another on the way back to Sydney.\n\nWe already hav
 e two cars for this trip\, so please only sign up if you don't have a car 
 or at least won't be bringing it along to this canyon (so we can have two 
 full cars and reserve any extra space for other boree log trips)\n\nAny qu
 estions contact Chris Sharples and Liam Hayes (look under members on the 
 UNSWOC facebook page).
CATEGORIES:Boree Log,Canyoning
LOCATION:Leura\, Leura\, Leura\, Australia
GEO:-33.712528;150.331528
X-APPLE-STRUCTURED-LOCATION;VALUE=URI;X-ADDRESS=Leura\, Leura\, Australia;X
 -APPLE-RADIUS=100;X-TITLE=Leura:geo:-33.712528,150.331528
END:VEVENT
END:VCALENDAR