BEGIN:VCALENDAR
VERSION:2.0
PRODID:-//wp-events-plugin.com//7.2.3.1//EN
TZID:Australia/Sydney
X-WR-TIMEZONE:Australia/Sydney
BEGIN:VEVENT
UID:2840@unswoc.org
DTSTART;TZID=Australia/Sydney:20210213T153000
DTEND;TZID=Australia/Sydney:20210213T170000
DTSTAMP:20210205T101121Z
URL:https://unswoc.org/wordpress/events/foraging-and-bushcraft-in-the-city
 /
SUMMARY:Foraging and Bushcraft in the City
DESCRIPTION:Hey!\n\nDo you love hiking\, climbing and all that outdoor good
 ness but wish you knew more about the trees\, birds and pretty flowers aro
 und you??\n\nCome and join Ash and I for a cruisy walk around Bradley's He
 ad where I can show you some of the edible and medicinal native plants gro
 wing in the middle of your city.\n\nIf everyone is a keen-bean after we fi
 nish our stroll we can do a bit of a workshop on how to make bush rope out
  of tree bark and potentially i can try and show you a little matchless fi
 re making demo (successful fire making not guaranteed).\n\nwhere: meeting 
 at the Taronga Zoo Warf and taking a slow stroll across to Sirius Cove Bea
 ch\n\nwhen: 3:30pm-5ish\n\nwhat do you need: typical stuff to go on a casu
 al stroll: -enclosed shoes\, a hat\, something to chew on in case your hun
 gry and a note pad/pen if you want to write anything down\n\n*Apologies fo
 r keeping the group size small on this one....but I'll be doing a few of t
 hese in different places this year if the first one goes well.*\n\n&nbsp\;
 \n\nFAQ\n\nAre we going to scramble in the wilderness?\n\nNope we'll basic
 ally be on a wooden walkway or path the entire time.  Bring your walking 
 shoes and you will be fine.\n\nIs this suitable for less mobile people?\n\
 nYes\, if you can walk up a flight of stairs and on a fire trail comfortab
 ly then you'll be fine where we're going :)\n\nAre we going to be harvesti
 ng plants?\n\nNah\, we'll only collect a few berries or flowers here and t
 here depending on what's around and available. The main aim of the worksho
 p is to give you some knowledge so that when you go back home you can reco
 gnise some useful plants in your own garden/surroundings.
ATTACH;FMTTYPE=image/jpeg:https://unswoc.org/wordpress/wp-content/uploads/
 2021/02/Rocksamphire-copy.jpg
CATEGORIES:Bushwalking
END:VEVENT
BEGIN:VTIMEZONE
TZID:Australia/Sydney
X-LIC-LOCATION:Australia/Sydney
BEGIN:DAYLIGHT
DTSTART:20201004T030000
TZOFFSETFROM:+1000
TZOFFSETTO:+1100
TZNAME:AEDT
END:DAYLIGHT
END:VTIMEZONE
END:VCALENDAR