BEGIN:VCALENDAR
VERSION:2.0
PRODID:-//wp-events-plugin.com//7.2.3.1//EN
TZID:Australia/Sydney
X-WR-TIMEZONE:Australia/Sydney
BEGIN:VEVENT
UID:3349@unswoc.org
DTSTART;TZID=Australia/Sydney;VALUE=DATE:20231007
DTEND;TZID=Australia/Sydney;VALUE=DATE:20231009
DTSTAMP:20231006T212325Z
URL:https://unswoc.org/wordpress/events/flower-power-canyoning/
SUMMARY:Flower Power Canyoning
DESCRIPTION:THIS IS A FULL TRIP\n\n&nbsp\;\n\nA party of 8 UNSWOC members (
 one of which is a royal Botanical gardens staff with a collection licence)
  are headed out on an overnight canyoning trip in the Wollangambe wilderne
 ss to collect samples of an endangered plant.\n\n&nbsp\;\n\nWe are heading
  out from Mt Wilson\, walking down to the 'gambe\, going up the ridge on t
 he other side and over into the next creek system. We will spend Saturday 
 afternoon exploring some canyons in the area\, camp in a cave on Saturday 
 night and go plant collecting on Sunday.\n\n&nbsp\;\n\nThe plant we are af
 ter is Haloragodendron gibsonsii\, which may or may not be the same specie
 s as Hal. Lucasii. The botanical garden intend to sequence the plants geno
 me to find out.\n\n\n\n(Photo of Hal. Lucasii\, credit: Murray Fagg – Au
 stralian National Botanic Gardens)
CATEGORIES:Bushwalking,Canyoning,Hectic Hiking
LOCATION:https://maps.app.goo.gl/gEMWP88va2MgjoRj6
END:VEVENT
BEGIN:VTIMEZONE
TZID:Australia/Sydney
X-LIC-LOCATION:Australia/Sydney
BEGIN:DAYLIGHT
DTSTART:20231001T030000
TZOFFSETFROM:+1000
TZOFFSETTO:+1100
TZNAME:AEDT
END:DAYLIGHT
END:VTIMEZONE
END:VCALENDAR