BEGIN:VCALENDAR
VERSION:2.0
PRODID:-//wp-events-plugin.com//7.2.3.1//EN
TZID:Australia/Sydney
X-WR-TIMEZONE:Australia/Sydney
BEGIN:VEVENT
UID:852@unswoc.org
DTSTART:20150524T000000Z
DTEND:20150524T050000Z
DTSTAMP:20150519T145532Z
URL:https://unswoc.org/wordpress/events/flatwater-kayaking-the-hacking-riv
 er/
SUMMARY:Flatwater Kayaking - The Hacking River
DESCRIPTION:Hey there! So finally we have a flat water trip\, you don't nee
 d to know how to roll in order to come. The plan is to start at the boat r
 amp at Gray's point and venture up the Hacking river to Audley where we ca
 n stop for coffee/late lunch before heading back down river and hopefully 
 exploring the South West Arm Creek.\n\nYou will need to collect a life jac
 ket from the gear cupboard on Wednesday night.\n\nYou will also need to br
 ing:\n\n	swimmers\n	dry clothes to change into after\n	water bottle\n	food
 \n\nKayaks and paddles will be provided\, yet if you have your own please 
 let me know! Spots are limited to how many boats we have and how many peop
 le can transport boats and paddles.\n\nCar pool if possible\, if not lifts
  can be arranged from Gymea station.
CATEGORIES:Flat Water Kayaking
LOCATION:Hacking River\, Swallow Rock Drive\, Gray's Point\, Australia
GEO:-34.060387;151.081009
X-APPLE-STRUCTURED-LOCATION;VALUE=URI;X-ADDRESS=Swallow Rock Drive\, Gray's
  Point\, Australia;X-APPLE-RADIUS=100;X-TITLE=Hacking River:geo:-34.060387
 ,151.081009
END:VEVENT
END:VCALENDAR