BEGIN:VCALENDAR
VERSION:2.0
PRODID:-//wp-events-plugin.com//7.2.3.1//EN
TZID:Australia/Sydney
X-WR-TIMEZONE:Australia/Sydney
BEGIN:VEVENT
UID:2585@unswoc.org
DTSTART;TZID=Australia/Sydney;VALUE=DATE:20191123
DTEND;TZID=Australia/Sydney;VALUE=DATE:20191125
DTSTAMP:20191120T103716Z
URL:https://unswoc.org/wordpress/events/flat-water-kayaking/
SUMMARY:Flat water kayaking
DESCRIPTION:Hi!\nMaria and I will be heading to do an over night Flat water
  kayak this weekend! Super stoked!!!\nOur first choice is Fossickers flat 
 on the Shoalhaven River down near Kangaroo valley (we are just confirming 
 water levels) and our plan b will be the hawkesbury river.\n\nhttp://www.t
 rihards.net/act/ppFossickersFlat.shtml?fbclid=IwAR0c4n6P6s39mY5t7Si0q9GUAU
 75tGeK20t56QEo_QZIwpG0BbFq-M-h3uY\n\nWe will be loading and leaving early 
 Saturday morning and returning Sunday night.\n\nWhat you will need:\n~6l W
 ater\n~hat\, sunscreen and sunglasses\n~Paddle Munchies\n~Dry clothes/towe
 l\n~Tent\n~Sleeping Bag\n~Sleeping Mat\n~Stove/Cooker\n~warm stuff (will g
 et cold at night)\n~Toilet paper &amp\; shovel\n~Food (Lunch\, dinner and 
 Brekky)\n~petrol money\n~if you have read this far tell me what your favou
 rite snack is in the comments.\n\nSorry this is such a small trip\, we are
  limited by kayaks and transport. \n\nMessage me (Mira Bug) if you have an
 y questions!\n\nKeen!!!\n
END:VEVENT
BEGIN:VTIMEZONE
TZID:Australia/Sydney
X-LIC-LOCATION:Australia/Sydney
BEGIN:DAYLIGHT
DTSTART:20191006T030000
TZOFFSETFROM:+1000
TZOFFSETTO:+1100
TZNAME:AEDT
END:DAYLIGHT
END:VTIMEZONE
END:VCALENDAR