BEGIN:VCALENDAR
VERSION:2.0
PRODID:-//wp-events-plugin.com//7.2.3.1//EN
TZID:Australia/Sydney
X-WR-TIMEZONE:Australia/Sydney
BEGIN:VEVENT
UID:2660@unswoc.org
DTSTART;TZID=Australia/Sydney:20200621T070000
DTEND;TZID=Australia/Sydney:20200621T190000
DTSTAMP:20200618T071114Z
URL:https://unswoc.org/wordpress/events/first-trip-back/
SUMMARY:First trip back!!!
DESCRIPTION:Hello!!\n\nFirst trip running after so many months of the rona\
 n\nWe are going to go on a longer day hike in the lower blue mountains. Th
 e particular hike will depend on participants transportation. Will include
 \, me nerding out about moss maybe some map nerds if your keen for either 
 of those.\n\nPlease be prepared for a long day so make sure you have:\n\n 
 	food for lunch and snacks\n 	at least 2l of water\n 	Good shoes\n 	Warm j
 acket (it’s much colder in the mountains)\n 	Rain coat\n 	Hat and sunscr
 een\n\nOf course there are some hygiene things\, hand sanitiser will be pr
 ovided\, social distancing both before and on the trip will need to be fol
 lowed\, I’ll need to record everyone’s contacts and the obvious no sha
 ring food and no spitting.\n\nGet in contact with me on Facebook (Mira bug
 ) if you have any questions!
ATTACH;FMTTYPE=image/jpeg:https://unswoc.org/wordpress/wp-content/uploads/
 2020/06/FC05B8CA-F234-439A-BF3F-DE9EEB93854C.jpeg
CATEGORIES:Hectic Hiking
END:VEVENT
BEGIN:VTIMEZONE
TZID:Australia/Sydney
X-LIC-LOCATION:Australia/Sydney
BEGIN:STANDARD
DTSTART:20200405T020000
TZOFFSETFROM:+1100
TZOFFSETTO:+1000
TZNAME:AEST
END:STANDARD
END:VTIMEZONE
END:VCALENDAR