BEGIN:VCALENDAR
VERSION:2.0
PRODID:-//wp-events-plugin.com//7.2.3.1//EN
TZID:Australia/Sydney
X-WR-TIMEZONE:Australia/Sydney
BEGIN:VEVENT
UID:3357@unswoc.org
DTSTART;TZID=Australia/Sydney;VALUE=DATE:20231028
DTEND;TZID=Australia/Sydney;VALUE=DATE:20231029
DTSTAMP:20231026T044335Z
URL:https://unswoc.org/wordpress/events/first-time-outside-intermediate-bo
 uldering-at-the-frontline/
SUMMARY:[Full] Beginner/Intermediate Bouldering at the Frontline
DESCRIPTION:Hey folks\,\n\nBrendan and I (Marcus) will be heading to The Fr
 ontline this Saturday 24 June. The Frontline is an expansive crag with bou
 lders of all sorts of different styles) and difficulties. Looking forward 
 to a great day out! Will probably be there from around 10.30am until late 
 afternoon\, more exact times to come later.\n\n[caption id="attachment_158
 02" align="aligncenter" width="305"] Stevie G on pincer movement – so in
 spirational[/caption]\n\nIn the comments let us know your experience with 
 bouldering (how long you have been bouldering/climbing for indoors and out
 doors)\, if you have a pad you can bring\, whether or not you have a car\,
  and your favourite quote from a movie.\n\nWhat to bring:\n\n 	Climbing sh
 oes\n 	Chalk bag\n 	WATER (2L minimum)\n 	Lunch/snacks\n 	Boulder pads\n 	
 Sun protection\n\nMore info on the location can be found here: https://www
 .thecrag.com/en/climbing/australia/north-west/the-frontline \n\n&nbsp\;
LOCATION:https://maps.app.goo.gl/7mdwmnt7nGsUJRLt7
END:VEVENT
BEGIN:VTIMEZONE
TZID:Australia/Sydney
X-LIC-LOCATION:Australia/Sydney
BEGIN:DAYLIGHT
DTSTART:20231001T030000
TZOFFSETFROM:+1000
TZOFFSETTO:+1100
TZNAME:AEDT
END:DAYLIGHT
END:VTIMEZONE
END:VCALENDAR