BEGIN:VCALENDAR
VERSION:2.0
PRODID:-//wp-events-plugin.com//7.2.3.1//EN
TZID:Australia/Sydney
X-WR-TIMEZONE:Australia/Sydney
BEGIN:VEVENT
UID:3117@unswoc.org
DTSTART;TZID=Australia/Sydney:20221217T130000
DTEND;TZID=Australia/Sydney:20221217T210000
DTSTAMP:20221206T002041Z
URL:https://unswoc.org/wordpress/events/first-aid-simulation-day/
SUMMARY:First Aid Simulation Day
DESCRIPTION:\n\n&nbsp\;\n\nPOSTPONED - 2023\n\n&nbsp\;\n\nDone your Remote 
 Area or Wilderness First Aid (or similar) and want to do some scenarios to
  have fun and refresh your skills? Well I have an opportunity for you!\n\n
 In 3 weeks (17th Dec) I will be running a First Aid Simulation Day/Evening
  for club members and trip leaders on Malabar headland. The plan is to do 
 ahead regardless of weather as we run trips in all weather.\n\nhttps://goo
 .gl/maps/o1D1QN8ZKBNy3MBq8\n\nThe aim it to share\, retain and regain Firs
 t Aid and Situational Management skills particularly leveraging off the fr
 esh skills of the WFA students doing the training next weekend. So we will
  try and do loads of different simulations using gear we would usually tak
 e on trips\, the more realistic the better for this. To that end\, bring a
 long your First Aid Kits (We use them but its good to know what's there) a
 nd other gear you would take on your primary sport (Rope\, Pack\, Hiking P
 oles\, etc). That way we will have stuff for all sports and can do realist
 ic responses. Please respond In the comment what sport's stuff you will br
 ing.\n\nWhat ELSE to bring:\n\n 	Bring snacks for the afternoon/evening\, 
 we will provide dinner but not snacks\n 	Bring Drinking Water\, we will pr
 ovide some refreshing drinks exactly what to be decided.\n 	Bring OLD firs
 t aid supplies from home that might be out of date or going a bit bad so b
 olster our supply for the simulations.\n 	Bring Clothing that can get reck
 ed and dirty\, we will use tomato sauce (or something else that's suggeste
 d before the day as fake blood).\n\nI dont want to come up with all the si
 mulations and to be honest dont know what all the gorey ways people have b
 een messed up in all the sports\, as such Please comment a scenario you th
 ink we should run in your comment too.\n\nIf you are interested please sig
 n up! If your first aid qual is not on your profile or is not a common one
 \, mention it in the comments.\n\nI am very open to suggestions and havent
  done this before so please reach out to me if you have any ideas. I am pa
 rticularly interested for help from you if you have relevant actual traini
 ng (REGUARDLESS of first aid training or club membership status)\, I.E. Me
 d student/Doctor/Nurse\, First Responder\, Defence\, Guide etc for help\, 
 your knowledge and experience in the lead up and on the day.
END:VEVENT
BEGIN:VTIMEZONE
TZID:Australia/Sydney
X-LIC-LOCATION:Australia/Sydney
BEGIN:DAYLIGHT
DTSTART:20221002T030000
TZOFFSETFROM:+1000
TZOFFSETTO:+1100
TZNAME:AEDT
END:DAYLIGHT
END:VTIMEZONE
END:VCALENDAR