BEGIN:VCALENDAR
VERSION:2.0
PRODID:-//wp-events-plugin.com//7.2.3.1//EN
TZID:Australia/Sydney
X-WR-TIMEZONE:Australia/Sydney
BEGIN:VEVENT
UID:2273@unswoc.org
DTSTART:20180815T070000Z
DTEND:20180815T090000Z
DTSTAMP:20180809T093623Z
URL:https://unswoc.org/wordpress/events/first-aid-practical-workshop-wedne
 sday/
SUMMARY:First Aid Practical Workshop - WEDNESDAY -
DESCRIPTION:\n 	What? First Aid Practical Workshop\n 	When? Wednesday the 
 15th\, from 6 pm to 8 pm\n 	Where? UNSW Main Library\, Level 4\, Room 412\
 n\nThe UNSWOC trip leaders recently participated in a Remote Area First Ai
 d Course to learn what to do in an outdoors emergency. No matter how often
  you go outdoors\, how hard you climb\, or how much you love hiking\, bein
 g outdoors in remote areas with little medical supplies is a risk\, and th
 ings can go very very badly. To avoid this\, come to our workshop!\n\nQUES
 TION: Your mate falls unconscious during a hike. There is blood on his ank
 le. What do you do?\n\nA: Activate your PLB (What's a PLB? Are you even ca
 rrying one?)\n\nB: Oh my god\, someone start CPR! (...you've watched too m
 any movies...or is it correct?)\n\nC: Put your gloves on\, clean the wound
 \, and use a bandage. He'll recover (hold on\, did we check for breathing?
 !?)\n\nD: Let's be honest\, I'm not too sure what to do --&gt\; Come to th
 is workshop\, it may save someone's life.\n\n\n\nNo previous experience re
 quired. Start is 6 pm sharp\, the workshop will run for 2 hr\, and we will
  practice how to wrap ankles\, snake bites\, bee stings\, how to treat hea
 t or cold shocks\, asthma attacks\, broken arms\, etc. If you have any que
 stion\, message me on facebook 🙂\n\nBest\, Maria\n\n&nbsp\;
END:VEVENT
END:VCALENDAR