BEGIN:VCALENDAR
VERSION:2.0
PRODID:-//wp-events-plugin.com//7.2.3.1//EN
TZID:Australia/Sydney
X-WR-TIMEZONE:Australia/Sydney
BEGIN:VEVENT
UID:2365@unswoc.org
DTSTART:20190313T074500Z
DTEND:20190313T100000Z
DTSTAMP:20190310T015105Z
URL:https://unswoc.org/wordpress/events/first-aid-practical-workshop-wedne
 sday-2/
SUMMARY:First Aid Practical Workshop - WEDNESDAY -
DESCRIPTION:\n 	What? First Aid Practical Workshop\n 	When? Wednesday the 
 13th\, from 7 pm sharp to 9 pm\n 	Where? UNSW Main Library\, Level 4\, Roo
 m 406\n\nThe UNSWOC trip leaders recently participated in a Remote Area Fi
 rst Aid Course to learn what to do in an outdoors emergency. No matter how
  often you go outdoors\, how hard you climb\, or how much you love hiking\
 , being outdoors in remote areas with little medical supplies is a risk\, 
 and things can go very very badly. To avoid this\, come to our workshop!\n
 \nQUESTION: Your mate falls unconscious during a hike. There is blood on h
 is ankle. What do you do?\n\nA: Activate your PLB (What's a PLB? Are you e
 ven carrying one?)\n\nB: Oh my god\, someone start CPR! (...you've watched
  too many movies...or is it correct?)\n\nC: Put your gloves on\, clean the
  wound\, and use a bandage. He'll recover (hold on\, did we check for brea
 thing?!?)\n\nD: Let's be honest\, I'm not too sure what to do --&gt\; Come
  to this workshop\, it may save someone's life.\n\n\n\nNo previous experie
 nce required. Start at 7 pm sharp\, the workshop will run for 2 hr\, and w
 e will PRACTICE how to wrap ankles\, snake bites\, bee stings\, how to tre
 at heat or cold shocks\, asthma attacks\, broken arms\, etc. If you have a
 ny question\, message me on facebook 🙂\n\nBest\, Nicola and Maria
END:VEVENT
END:VCALENDAR