BEGIN:VCALENDAR
VERSION:2.0
PRODID:-//wp-events-plugin.com//7.2.3.1//EN
TZID:Australia/Sydney
X-WR-TIMEZONE:Australia/Sydney
BEGIN:VEVENT
UID:2184@unswoc.org
DTSTART;VALUE=DATE:20171028
DTEND;VALUE=DATE:20171029
DTSTAMP:20171017T050324Z
URL:https://unswoc.org/wordpress/events/firefly-canyon-quest-firebird/
SUMMARY:Firefly Canyon - Quest for the Firebird
DESCRIPTION:Greetings fellow adventurers!\n\nAidan and I invite you to emba
 rk on a perilous quest down Firefly canyon in search of the mythical fireb
 ird. We are seeking all abilities from knight to peasant (experienced to b
 eginner) to aid us in our journey. Those selected to attend will be reward
 ed with newfound skills and knowledge. We will depart from camp early Satu
 rday morning\, but you must be attending Boree log in order to be accepted
  on this quest. It will be a long day of more than 12km and a moderate fit
 ness level is expected.\n\nYou will be expected provide the following equi
 pment yourselves:\n\n	Thermals\n	Backpack\n	Lunch\n	Snacks (preferably sug
 ary ones)\n	Dry bag\n	Enclosed shoes (volleys are best)\n	Hat/sunscreen\n	
 Wool socks\n	Headtorch\n	Dry clothes\n\nWe can provide the following equip
 ment if you don't have your own:\n\n	Wetsuit\n	Helmet\n	Harness\n	Descende
 r\n	Locking biner x2\n	Safety sling\n\nAdditional Notes:\n- If you wear/br
 ing cotton socks you will be left at the campsite\n- If you have your own 
 spaceblanket\, waterproof camera or first aid kit feel free to bring it!
CATEGORIES:Boree Log,Canyoning
END:VEVENT
END:VCALENDAR