BEGIN:VCALENDAR
VERSION:2.0
PRODID:-//wp-events-plugin.com//7.2.3.1//EN
TZID:Australia/Sydney
X-WR-TIMEZONE:Australia/Sydney
BEGIN:VEVENT
UID:2929@unswoc.org
DTSTART;TZID=Australia/Sydney;VALUE=DATE:20211010
DTEND;TZID=Australia/Sydney;VALUE=DATE:20211018
DTSTAMP:20211011T015854Z
URL:https://unswoc.org/wordpress/events/find-a-word/
SUMMARY:Find-A-Word!
DESCRIPTION:An exciting final lockdown game! A find-a-word! - Cred to Chris
 tian Christiansen =)\n\nWhat is the answer to this question?\n\n___(3) ___
 _(4) _____(5) ____(4) ______(6) _____(5) ______(6) ____(4)?\n\nSubmit your
  answer as a trip request.\nA I I R I Y V Y A L V O Y Y Y M Y U L\nE L U Y
  R Y A V I O M M C N P U S F F\nD C F D M Q W I K Y Y G C A U K A X T\nV U
  Z A L V O O O Q A V O M M S A P E\nW U L A U U X V H I O U M N E Q S U I\
 nW Q X G H L T L O K K O K O P P E X S\nY F F T S S C C E E G O O C K O O 
 S U\nD D A C H P S W W D T I U M X N I U S\nG E F L X E S E L D A K E L M 
 Q E R F\nD T U F R T W I S F Y E V A H R I U S\nL U Q I R S X S I E E H K 
 D Q A F A U\nL D U Z S F U K L C O V H V T U F I K\nS U S U S U F U E F Q 
 D K S T U S T E
END:VEVENT
BEGIN:VTIMEZONE
TZID:Australia/Sydney
X-LIC-LOCATION:Australia/Sydney
BEGIN:DAYLIGHT
DTSTART:20211003T030000
TZOFFSETFROM:+1000
TZOFFSETTO:+1100
TZNAME:AEDT
END:DAYLIGHT
END:VTIMEZONE
END:VCALENDAR