BEGIN:VCALENDAR
VERSION:2.0
PRODID:-//wp-events-plugin.com//7.2.3.1//EN
TZID:Australia/Sydney
X-WR-TIMEZONE:Australia/Sydney
BEGIN:VEVENT
UID:286@unswoc.org
DTSTART:20130911T073000Z
DTEND:20130911T100000Z
DTSTAMP:20130910T172411Z
URL:https://unswoc.org/wordpress/events/film-night/
SUMMARY:Film Night
DESCRIPTION:For the first time in a long while\, we will be holding a film 
 night!\nWe have the Ritchie Theater\, UNSW's own movie theater and it shou
 ld be a great night.\nTo keep everyone interested the night will feature a
  collection of short films about Climbing\, Whitewater Kayaking\, Skiing a
 nd Snowboarding and of course Canyoning. Mixed in with the professional fi
 lms\, you will find some shorts by club members.\nThe night is free\, and 
 all are welcome\, whether you are a member yet or not!\nWe will head to ei
 ther the Whitehoue or the Rege afterwards fro some libations.\n\n
ATTACH;FMTTYPE=image/jpeg:https://unswoc.org/wordpress/wp-content/uploads/
 2013/08/MF12-FILM-The_Denali_Experiment1.jpg
CATEGORIES:Social Event
LOCATION:\, \, 
X-APPLE-STRUCTURED-LOCATION;VALUE=URI;X-ADDRESS=\, ;X-APPLE-RADIUS=100;X-TI
 TLE=:geo:0,0
END:VEVENT
END:VCALENDAR