BEGIN:VCALENDAR
VERSION:2.0
PRODID:-//wp-events-plugin.com//7.2.3.1//EN
TZID:Australia/Sydney
X-WR-TIMEZONE:Australia/Sydney
BEGIN:VEVENT
UID:2101@unswoc.org
DTSTART;VALUE=DATE:20170226
DTEND;VALUE=DATE:20170227
DTSTAMP:20170221T081023Z
URL:https://unswoc.org/wordpress/events/fearless-explorers-bowens-canyon/
SUMMARY:The fearless explorers of Bowens Canyon
DESCRIPTION:Be welcome oh you fearless brethren!\n\nWhether you have alread
 y braved a many canyons or are willing to take that first jump into the co
 ld (well\, hopefully not too cold) water\, join Dion and me this Sunday to
  explore Lower Bowens North Creek! Together we will jump into the unknown\
 , abseil down slippery slopes and climb over boulders - how much more fun 
 can you possibly find!\n\nWe will leave Sydney very early Sunday morning (
 around 6am) and will be back in the evening after a day of adventure.\n\nP
 lease write your experience level and if you have a car into the comment s
 ection when you sign up. Below you find a list of all you need.\n\n(http:/
 /ozultimate.com/canyoning/reports/2015/20150104_lower_bowens_north/photos.
 htm)\n\nThe explorer equipment 101 (*= can be hire from the club):\n\n	wet
 suit*\n	drybag\n	lunch + snacks (eps for your favorite trip leaders \;))\n
 	harness*\n	atc + biner*\n	sling*\n	helmet*\n	wool or synthetic socks (not
  cotton)\n	cheap shoes that you dont mind to get wet or a bit ruined (if y
 ou dont have some\, head to target\, big W\,... and buy some cheap volleys
  or runners)\n	(thermals for under your wetsuit if you get cold easily)\n	
 (rainjacket for over the wetsuit if its a bit of a cold day)\n	backpack th
 at can get wet to carry your stuff\n	spare set of thermals for emergencie
 s\n	flip flops for the ride back\n	towel and change of clothes to change i
 nto when we get back to the car\n	headtorch\n	waterproof camera\n\n&nbsp\;
CATEGORIES:Canyoning
END:VEVENT
END:VCALENDAR