BEGIN:VCALENDAR
VERSION:2.0
PRODID:-//wp-events-plugin.com//7.2.3.1//EN
TZID:Australia/Sydney
X-WR-TIMEZONE:Australia/Sydney
BEGIN:VEVENT
UID:2544@unswoc.org
DTSTART;TZID=Australia/Sydney;VALUE=DATE:20191019
DTEND;TZID=Australia/Sydney;VALUE=DATE:20191021
DTSTAMP:20200126T222814Z
URL:https://unswoc.org/wordpress/events/faulconbridge-to-glenbrook-via-los
 t-worlds/
SUMMARY:Faulconbridge to Glenbrook via Lost Worlds Lookout
DESCRIPTION:Join us for an overnight from Faulconbridge to Glenbrook via Lo
 st Worlds ⛰️⛰️⛰️\nThis two-day walk will take us from station 
 to station through lush\, scenic forest in the lower Blue Mountains and in
 clude sweeping views from Lost World Lookout ! Although enjoyable\, there 
 are hilly and rocky sections\, so some fitness/experience will be necessar
 y.\nWe will be public transporting from Central Station\, and as such ther
 e will be no place to leave gear so please follow the packing list strictl
 y.\nYou will need:\n\n\n 	Hiking pack\n 	Tent (or someone to share with)\n
  	Sleeping bag and mat\n 	Food for 2 days (2x breakfast\, 2x lunch\, 1x di
 nner + snacks)\n 	Stove and gas for cooking meals\n 	WATER (3-4 litres) - 
 you will be turned away at the beginning of the trip if you do not bring e
 nough\n 	We recommend bring water treatment (such as mircopur tablets\, aq
 uatabs or just boiling water) as water quality can't be guaranteed. Nat ha
 s spare Iodine too - message if required\n 	Warm clothes (weather can vary
  so be prepared!!)\n 	Rain jacket\n 	Head torch\n 	Comfortable shoes (hiki
 ng boots recommended)\n 	Toiletries etc.\n 	First aid/ medication\n 	Sunsc
 reen/hat/sunnies\n\n&nbsp\;\n\nMessage us (Nat Jensen or Yvette Mascarenha
 s) on facebook or comment below with your experience\, any gear required (
 which can be picked up on gear night\, and anything else thats on ya mind 
 🤙\n\n&nbsp\;\nTrip notes:\nhttps://www.aussiebushwalking.com/nsw/blue-m
 ountains-national-park/faulconbridge-to-glenbrook-via-lost-world\nhttp://w
 ww.wildwalks.com/bushwalking-and-hiking-in-nsw/blue-mountains-springwood/f
 aulconbridge-to-blaxland.html\n&nbsp\;\nTop-notch hikers always follow the
  principles of Leave No Trace to minimise our impact on the trail - have a
  squiz at this for more info https://blog.nationalparks.nsw.gov.au/how-to-
 leave-no-trace/
ATTACH;FMTTYPE=image/jpeg:https://unswoc.org/wordpress/wp-content/uploads/
 2019/10/lost-worlds.jpg
CATEGORIES:Bushwalking,Hectic Hiking
END:VEVENT
BEGIN:VTIMEZONE
TZID:Australia/Sydney
X-LIC-LOCATION:Australia/Sydney
BEGIN:DAYLIGHT
DTSTART:20191006T030000
TZOFFSETFROM:+1000
TZOFFSETTO:+1100
TZNAME:AEDT
END:DAYLIGHT
END:VTIMEZONE
END:VCALENDAR