BEGIN:VCALENDAR
VERSION:2.0
PRODID:-//wp-events-plugin.com//7.2.3.1//EN
TZID:Australia/Sydney
X-WR-TIMEZONE:Australia/Sydney
BEGIN:VEVENT
UID:288@unswoc.org
DTSTART:20130830T200000Z
DTEND:20130901T070000Z
DTSTAMP:20130828T005940Z
URL:https://unswoc.org/wordpress/events/faulconbridge-blaxland-overnight-w
 alk/
SUMMARY:Faulconbridge to Blaxland overnight walk
DESCRIPTION:We are heading out for an overnight walk from Faulconbridge to 
 Blaxland on the weekend.  It is a very short distance for a two day walk 
 but should be quite scenic.\n\nA general level of fitness is essential.  
 No overnight hiking experience is necessary but you will need to organise 
 your own gear including:\n\n	Pack\n	Tent\n	Warm clothing including rain ja
 cket and enclosed shoes\n	Winter Sleeping bag(although it may seem warm in
  Sydney at the moment it is still winter\, it will be very cold in the mou
 ntains overnight)\n	Sleeping mat\n	Food (2x breakfast\, 2x lunch\, 1x din
 ner and snacks)\n	Stove (we can share these\, if you don't have one let me
  know\, you will need something hot to eat to stay warm)\n\nThe general pl
 an will be to catch the 7.18 am train on the blue mountains line from cent
 ral station –we will meet on the top floor of the second to last carriag
 e.  If you wish to catch the train further along the line or drive yourse
 lf there please let me know so I will know where to expect you.  From the
 re we will walk\, camp overnight walk more and then catch the train back f
 rom Blaxland station on Sunday.\n\nPlease note that if you are not a finan
 cial member of the club or haven’t signed up to the trip on the club web
 site you are not covered by insurance…..and therefore we can’t be frie
 nds.   The only cost involved is for your own train tickets\, there is n
 o camping fee.  Any questions send me an email via the club website or th
 e club facebook page.\n\nThe link below has some track notes if you are in
 terested.\n\nhttp://www.wildwalks.com/bushwalking-and-hiking-in-nsw/blue-m
 ountains-springwood/faulconbridge-to-blaxland.html
LOCATION:\, \, 
X-APPLE-STRUCTURED-LOCATION;VALUE=URI;X-ADDRESS=\, ;X-APPLE-RADIUS=100;X-TI
 TLE=:geo:0,0
END:VEVENT
END:VCALENDAR