BEGIN:VCALENDAR
VERSION:2.0
PRODID:-//wp-events-plugin.com//7.2.3.1//EN
TZID:Australia/Sydney
X-WR-TIMEZONE:Australia/Sydney
BEGIN:VEVENT
UID:2459@unswoc.org
DTSTART;TZID=Australia/Sydney;VALUE=DATE:20190831
DTEND;TZID=Australia/Sydney;VALUE=DATE:20190905
DTSTAMP:20190817T024409Z
URL:https://unswoc.org/wordpress/events/exploratory-sea-kayaking-trad-clim
 bing/
SUMMARY:Exploratory Sea Kayaking & Trad Climbing
DESCRIPTION:Ahoy there!\n\nAidan and I will be doing a little exploratory t
 raining paddle to the Solitary Islands (just off of Coffs Harbour) and it'
 s a long shot but we'd love to have people join us! We have 2 spots availa
 ble for any self-sufficient sea kayakers (club gear is available for use i
 f you need anything)\, the trad climbing is optional.\n\nThe Plan:\n\n\n\n
  	Leave Sydney early on the 31st of August and drive to Arrawarra. Kayak n
 orth for 13km to camp on the beach.\n 	On the 1st we will paddle to North 
 West Rock (13km) and then down to North Solitary Island (2km). If it is po
 ssible to land we will camp there and sus out the potential climbing. Othe
 rwise\, we will return to the previous campsite (13km).\n 	On the 2nd we w
 ill paddle to North West Solitary Island (15km) for lunch and eat from our
  boats before paddling onward to South West Solitary Island (16km). We wil
 l attempt to land and camp there. If this is not possible we will paddle b
 ack to the car (12km).\n 	On the 3rd we will sus out the climbing potentia
 l on South West Solitary Island and attempt some climbing before paddling 
 back to the car (12km).\n 	Drive home on the 4th.\n\nYou are welcome to us
 e any of the club kayaking gear that you may require\, but one of the two 
 people signing up will need a car to transport your boats\, the club has s
 oft racks if you don't have roof racks. It would be awesome to see some ne
 w faces\, but this is not a beginner trip. Please comment with your kayaki
 ng experience\, car status\, seasickness remedies and whether or not you w
 ould be keen on some climbing.\n\n&nbsp\;
ATTACH;FMTTYPE=image/jpeg:https://unswoc.org/wordpress/wp-content/uploads/
 2019/08/Sea-kayaking.jpg
CATEGORIES:Outdoor Climbing,Sea Kayaking
END:VEVENT
BEGIN:VTIMEZONE
TZID:Australia/Sydney
X-LIC-LOCATION:Australia/Sydney
BEGIN:STANDARD
DTSTART:20190407T020000
TZOFFSETFROM:+1100
TZOFFSETTO:+1000
TZNAME:AEST
END:STANDARD
END:VTIMEZONE
END:VCALENDAR