BEGIN:VCALENDAR
VERSION:2.0
PRODID:-//wp-events-plugin.com//7.2.3.1//EN
TZID:Australia/Sydney
X-WR-TIMEZONE:Australia/Sydney
BEGIN:VEVENT
UID:2025@unswoc.org
DTSTART;VALUE=DATE:20160529
DTEND;VALUE=DATE:20160530
DTSTAMP:20160530T155236Z
URL:https://unswoc.org/wordpress/events/exploratory-canyon/
SUMMARY:exploratory canyon
DESCRIPTION:Canyon Details:\n\nThis is an exploratory canyon. There are no 
 track notes\, and I don't know of anyone who has been there before (or eve
 n if people have descended it). That said\, here are my predictions about 
 what to expect:\n\nIt runs through the banks layer of sandstone. It is sho
 rt canyon\, only 200m long. I expect the constrictions to be tall and narr
 ow - you might need to abseil with backpack hanging from harness to fit th
 rough the canyon. The vertical relief is 60 to 80m. There will probably be
  1-3 abseils of up to 30m. I am quite certain the longest abseil will be s
 horter than 50m. The canyon will be mostly dry. If there is water\, it wil
 l be in small potholes and maybe knee- to waist-deep.\n\nIt should take us
  no more than 6 hours return\, probably less.\n\nRopes and Progression\n\n
 Minimum stuff to bring is a 60m rope\, 60m pull cord\, and a 30 or 40m rop
 e. Another short rope would be nice\, if someone is willing to grab one fr
 om the club locker.\n\nIf there aren't any anchors we will have to build t
 hem from scratch\, which may take a while. If we can't progress through th
 e canyon any further\, we will have to prussik or climb out. We will set u
 p abseils on single rope\, and convert them to double only if we want to r
 etrieve them.\n\nCar: black Subaru impress AL54LX (I think)
CATEGORIES:Canyoning
END:VEVENT
END:VCALENDAR