BEGIN:VCALENDAR
VERSION:2.0
PRODID:-//wp-events-plugin.com//7.2.3.1//EN
TZID:Australia/Sydney
X-WR-TIMEZONE:Australia/Sydney
BEGIN:VEVENT
UID:2055@unswoc.org
DTSTART;VALUE=DATE:20160828
DTEND;VALUE=DATE:20160829
DTSTAMP:20160825T151251Z
URL:https://unswoc.org/wordpress/events/exploratory-canyon-2/
SUMMARY:Exploratory Canyon
DESCRIPTION:This is an advanced-level trip.\n\nExploratory canyoning is whe
 re you find something on a map which looks like a canyon then go and explo
 re it. There are no descriptions or track notes to work off\, and very few
  (if any) people visit the area each year. Therefore\, this trip will incl
 ude activities such as:\n\n	bushbashing (and lots of it)\n	building\, insp
 ecting and testing abseil anchors\n	abseiling and prussiking\n\nThis Sund
 ay I'm planning to explore some areas on Newnes Plateau or in the Wollanga
 mbe Wilderness (to be decided). Some of the canyons will be narrow and som
 e will involve abseiling. There will probably be ankle-deep water.\n\nAll 
 the details will be sorted out once we've got a group organised. This incl
 udes which canyon we actually visit!\n\nIf you're keen to come\, let me k
 now:\n\n	Your previous canyoning experience\, if I haven't canyoned with y
 ou before\n	How hardcore you are (0 = I might come if you can guarantee I 
 won't get wet\, 10 = let's get a first descent during the middle of winter
  when it's snowing)\n	If you are able to drive and if so\, what type of ca
 r (2WD\, AWD\, 4WD)\n\nFeel free to ask me questions via email or facebook
 !
CATEGORIES:Canyoning
END:VEVENT
END:VCALENDAR