BEGIN:VCALENDAR
VERSION:2.0
PRODID:-//wp-events-plugin.com//7.2.3.1//EN
TZID:Australia/Sydney
X-WR-TIMEZONE:Australia/Sydney
BEGIN:VEVENT
UID:2904@unswoc.org
DTSTART;TZID=Australia/Sydney;VALUE=DATE:20210612
DTEND;TZID=Australia/Sydney;VALUE=DATE:20210615
DTSTAMP:20210611T232452Z
URL:https://unswoc.org/wordpress/events/experienced-hike-k2k/
SUMMARY:Experienced Hike - K2K
DESCRIPTION:\n\nThe K2K (Katoomba to Kanangra) walk is THE classic challeng
 ing hike in the Blue Mountains\, covering 45km of some of the best scenery
  in the region and 2 national parks over 3 days.\n\nSave the date of the J
 une long weekend to tackle this beast. Good fitness and overnight hiking e
 xperience are required as we will be covering pretty rugged terrain and th
 ere is no visible track in places. Many parties have gotten lost here over
  the years so this will also be a great chance to practice your navigation
  skills in a real environment.\n\nThe plan is to get enough people signed 
 up to avoid the 4-hour car shuffle and hike in 2 groups\, one starting fro
 m either end\, and using the each other's cars to get back to civilisation
  at the end of the trail. This means that we will aim to all meet for lunc
 h in the middle on the second day\, but otherwise the 2 groups will be ind
 ependent on the trail.\n\nIn the comments please let me know what multi-da
 y hikes you've done\, why you're keen for the K2K\, and if you have a car\
 , whether you have 2 sets of keys for it.\n\n&nbsp\;\n\nMore details will 
 be posted closer to the date\, until then get keen for a memorable long we
 ekend!
ATTACH;FMTTYPE=image/jpeg:https://unswoc.org/wordpress/wp-content/uploads/
 2021/04/K2K-1.jpeg
CATEGORIES:Hectic Hiking
END:VEVENT
BEGIN:VTIMEZONE
TZID:Australia/Sydney
X-LIC-LOCATION:Australia/Sydney
BEGIN:STANDARD
DTSTART:20210404T020000
TZOFFSETFROM:+1100
TZOFFSETTO:+1000
TZNAME:AEST
END:STANDARD
END:VTIMEZONE
END:VCALENDAR