BEGIN:VCALENDAR
VERSION:2.0
PRODID:-//wp-events-plugin.com//7.2.3.1//EN
TZID:Australia/Sydney
X-WR-TIMEZONE:Australia/Sydney
BEGIN:VEVENT
UID:2994@unswoc.org
DTSTART;TZID=Australia/Sydney;VALUE=DATE:20220611
DTEND;TZID=Australia/Sydney;VALUE=DATE:20220614
DTSTAMP:20220609T012204Z
URL:https://unswoc.org/wordpress/events/experienced-hike-k2k-okay-maybe-th
 is-year/
SUMMARY:Experienced Hike - K2K
DESCRIPTION:Exactly one year after National Parks decided to celebrate the 
 Queen's Birthday by shooting pigs from helicopters\, we're back again to b
 ring you an amazing opportunity to (maybe) complete this legendary hike:\n
 \n\n\nThe K2K (Katoomba to Kanangra) walk is THE classic challenging hike 
 in the Blue Mountains\, covering 45km of some of the best scenery in the r
 egion and 2 national parks over 3 days.\n\nSave the date of the June long 
 weekend to tackle this beast. Good fitness and overnight hiking experience
  are required as we will be covering pretty rugged terrain and there is no
  visible track in places. Many parties have gotten lost here over the year
 s so this will also be a great chance to practice your navigation skills i
 n a real environment.\n\nThe plan is to get enough people signed up to avo
 id the 4-hour car shuffle and hike in 2 groups\, one starting from either 
 end\, and using the each other's cars to get back to civilisation at the e
 nd of the trail. This means that we will aim to all meet for lunch in the 
 middle on the second day\, but otherwise the 2 groups will be independent 
 on the trail.\n\nIn the comments please let me know what multi-day hikes y
 ou've done\, why you're keen for the K2K\, and if you have a car\, whether
  you have 2 sets of keys for it.\n\n&nbsp\;\n\nMore details will be posted
  closer to the date\, until then get keen for a memorable long weekend!\n\
 n&nbsp\;\n\nPS. Seriously\, answer the questions in the comments.\n\n&nbsp
 \;\n\nLinks:\n\nTrack notes\n\nBotany reading\n\nMaps\n\nLast year's poeti
 c attempt
ATTACH;FMTTYPE=image/jpeg:https://unswoc.org/wordpress/wp-content/uploads/
 2021/04/K2K-1.jpeg
CATEGORIES:Hectic Hiking
END:VEVENT
BEGIN:VTIMEZONE
TZID:Australia/Sydney
X-LIC-LOCATION:Australia/Sydney
BEGIN:STANDARD
DTSTART:20220403T020000
TZOFFSETFROM:+1100
TZOFFSETTO:+1000
TZNAME:AEST
END:STANDARD
END:VTIMEZONE
END:VCALENDAR