BEGIN:VCALENDAR
VERSION:2.0
PRODID:-//wp-events-plugin.com//7.2.3.1//EN
TZID:Australia/Sydney
X-WR-TIMEZONE:Australia/Sydney
BEGIN:VEVENT
UID:3599@unswoc.org
DTSTART;TZID=Australia/Sydney;VALUE=DATE:20250719
DTEND;TZID=Australia/Sydney;VALUE=DATE:20250720
DTSTAMP:20250718T000514Z
URL:https://unswoc.org/wordpress/events/experienced-day-hike-lindeman-pass
 /
SUMMARY:Experienced Day Hike - Lindeman Pass
DESCRIPTION:Please note: This is an Expression of Interest and as always\,
  the trip may need to be postponed at short notice due to weather issues o
 r other circumstances :)\n\n\n\nThe Lindeman Pass "skirts the top of the t
 alus slope through the Jamison valley\, giving unobstructed\, unique views
  of the valley".\n\nIt will be a fun time\, going behind waterfalls and wi
 th great views! 🌄\n\n&nbsp\;\n\nHowever\, it is a hard unmaintained and
  remote walking track along the base of the Leura cliffline. The track wil
 l be vague and overgrown in places. You must have reasonable experience wi
 th hard walks.\n\nGood reading:\n\n 	https://www.jamisonproject.org/tracks
 /lindeman-pass\n 	https://hikingtheworld.blog/2023/04/14/lindeman-pass-cop
 eland-pass/\n\n&nbsp\;\n\nI see the above posts and think "wow fun trip". 
 If you are the same then read on!\n\n\n\nMy plan is mapped here ~12km and
  about 1000m elevation gain in total\, Saturday 19th July (Week 7 of term)
 .\n\nWe would meet in Southern Leura:\n\n 	Head to the base of Leura Falls
  via amphitheatre track.\n 	Continue along Lindeman's beneath Gordon Falls
  to Sublime Point.\n 	Take the nose (Southern) pass up Sublime Point.\n 	R
 eturn to Leura via Pool of Siloam.\n\n&nbsp\;\n\nIf you would be keen to j
 oin\, please let me know in the comments:\n\n 	If you have a car and would
  be interested in driving up.\n\n 	Walking to/from Leura station only adds
  1km each way so cars are not compulsory.\n\n\n 	Prior hiking experience (
 any off-track? most elevation in a day?)\n 	This track has a closure at so
 me point (see NPWS website). Why does this closure not affect the planned 
 route?\n\n 	This replaces the classic "if you would be an animal for a day
 " question\, I guess 😆\n\n\n\n&nbsp\;\n\nFull disclosure: I have not w
 alked this track before. I have gone past it several times and thought it 
 would be a fun trip. The group size for this trip will probably be max 5 p
 articipants just to keep it manageable.\n\nIf you have any questions\, sen
 d me a message here: https://www.facebook.com/sadar.sadrin/\n\nIf you hav
 e any intel about the track or have walked it recently\, please also send 
 me a message!
ATTACH;FMTTYPE=image/jpeg:https://unswoc.org/wordpress/wp-content/uploads/
 2025/06/20241215_124805-scaled.jpg
CATEGORIES:Bushwalking,Hectic Hiking
LOCATION:https://www.google.com/maps/place/Leura+NSW+2780/
END:VEVENT
BEGIN:VTIMEZONE
TZID:Australia/Sydney
X-LIC-LOCATION:Australia/Sydney
BEGIN:STANDARD
DTSTART:20250406T020000
TZOFFSETFROM:+1100
TZOFFSETTO:+1000
TZNAME:AEST
END:STANDARD
END:VTIMEZONE
END:VCALENDAR