BEGIN:VCALENDAR
VERSION:2.0
PRODID:-//wp-events-plugin.com//7.2.3.1//EN
TZID:Australia/Sydney
X-WR-TIMEZONE:Australia/Sydney
BEGIN:VEVENT
UID:3183@unswoc.org
DTSTART;TZID=Australia/Sydney:20230226T080000
DTEND;TZID=Australia/Sydney:20230226T130000
DTSTAMP:20230211T224227Z
URL:https://unswoc.org/wordpress/events/escape-to-the-city-minigaine-2023/
SUMMARY:Escape to the City - Minigaine 2023
DESCRIPTION:Keen to get out and practice your navigation skills? On the 26t
 h of Feb NSW rogaining is running a 3hr Minigaine in La Perouse!\n\n\n\nWh
 at is rogaining?? It's basically competitive navigation. With a compass an
 d map you make your way to different checkpoints to earn points\, the team
  who gets the most wins (but don't get back late)! You'll be on tracks\, b
 ashing through the scrub and maybe going through some old tunnels for this
  one!\n\nYou can find all the details and rego here: NSW Rogaining\n\nRego
  closes on the 21st at 10am\n\n&nbsp\;\n\nThere's no limit to the number o
 f people on this club trip since NSW Rogaining is running it\, but please 
 signup so we know who's going and can help you find a group! Feel free to 
 make your own groups too! Normally rogaining is a team sport\, but this pa
 rticular one can be done solo if you like.\n\n&nbsp\;\n\nWhat to bring:\n\
 n 	Snacks and water\n 	Compass (can borrow from the gear cupboard)\n 	Sun 
 protection (hat\, sunscreen)\n 	Hiking clothes (you may be bashing through
  the bush at points)\n
CATEGORIES:Hectic Hiking,Rogaining
END:VEVENT
BEGIN:VTIMEZONE
TZID:Australia/Sydney
X-LIC-LOCATION:Australia/Sydney
BEGIN:DAYLIGHT
DTSTART:20221002T030000
TZOFFSETFROM:+1000
TZOFFSETTO:+1100
TZNAME:AEDT
END:DAYLIGHT
END:VTIMEZONE
END:VCALENDAR