BEGIN:VCALENDAR
VERSION:2.0
PRODID:-//wp-events-plugin.com//7.2.3.1//EN
TZID:Australia/Sydney
X-WR-TIMEZONE:Australia/Sydney
BEGIN:VEVENT
UID:1994@unswoc.org
DTSTART:20160325T200000Z
DTEND:20160326T060000Z
DTSTAMP:20160417T113006Z
URL:https://unswoc.org/wordpress/events/empress-maybe-grand-canyon/
SUMMARY:Empress & Grand Canyon
DESCRIPTION:Hey everyone. Luke and I will be running Empress and if there'
 s time\, Grand Canyon this Saturday. This trip is suitable for beginners.\
 nWe'll work out transport and stuff in a group convo\, but it will be eit
 her train or carpool to get to the start of the walk in at Wentworth Falls
  by 8am. Yes 8am!\n\nEmpress is a lil beauty of a canyon with a big waterf
 all abseil at the end.\n\n&nbsp\;\n\nLOWDOWN\nTo get an idea of how things
  will work and the logistics of how to end up in dry underwear:\n\nThere's
  a short hike to the canyon\, you need a backpack to hold wetsuit\, lunch\
 , water\, harness etc.\nWhen we get to it's start we change into wetsuits 
 and harnesses with board shorts over the wetsuit to protect it (keeping sw
 immers or undies you were already wearing under the wetsuit if you want)\n
 You put dry stuff like your shirt into dry bags (which have your lunch in 
 them) in your backpack and put your helmets on.\n\nWe then go through the 
 the canyon with swims\, jumps and an abseil. Stopping somewhere for lunch
 . Keep snacks and water handy\n\nAt the very end we change out of wetsuits
  back into the dry shirt/clothes (boardies and undies/swimmers will still 
 be wet though!) to hike back. Then hopefully you left dry bottoms/shorts/
 undies in the car and you can change back into them then. Thongs are a mus
 t too\, for happiness.\n\nGEAR\n\n- Wetsuit and swimmers:\n\nYou can borro
 w a wetsuit from a friend\, borrow from the club (if one fits)\, or check 
 out second hand stores/gumtree.\nWear swimmers or undies under the wetsuit
  and have boardies to wear over the wetsuit to protect it.\n\n-Harness\, B
 elay Plate\, Helmet\n\nAll can be borrowed from the club\, go to the gear 
 cupboard on Wednesday evening (gear night)\n\n- Woolen Socks and Enclosed 
 shoes\n\nVolleys (are the best) or old joggers. They will get soaked. Plac
 es like target and bigW sell volleys for around $20 or $10 if you have kid
  sized feet :)\n\n- At least 2L Water\, snacks and lunch\n\nIf you don't h
 ave 2L you ain't coming :P Muesli Bars are cool because they come in their
  own waterproof wrapping.\n\n- Backpack and dry bag:\n\nBring a backpack t
 hat you don’t mind getting wet\, and one that can also hold your wetsuit
 \, at least 2L of water and your drybag which will hold lunch/snacks and s
 ome dry clothes.\nDrybags are waterproof bags that go in your backpack\, t
 here's usually space to share one between two but ask around first to make
  sure. Or they're about $20 in mountain designs\n\n- Torch:\n\nA torch sho
 uld be brought in your dry bag in the unlikely scenario we run out of sunl
 ight\n\n- Dry thermal top and bottom\, and jumper too if you like (NOT COT
 TON)\n\nTo bring in dry bag and change into in the unlikely scenario we ge
 t stuck\n\n- Dry Clothes (leave in car)\n\nTo change into after the canyon
 .\n\n&nbsp\;\n\nFeel free to ask Alie (Repetto) or I any questions.\n\nChe
 ers\,\n\nBrendan
CATEGORIES:Canyoning
END:VEVENT
END:VCALENDAR