BEGIN:VCALENDAR
VERSION:2.0
PRODID:-//wp-events-plugin.com//7.2.3.1//EN
TZID:Australia/Sydney
X-WR-TIMEZONE:Australia/Sydney
BEGIN:VEVENT
UID:833@unswoc.org
DTSTART:20150425T200000Z
DTEND:20150426T060000Z
DTSTAMP:20150521T003445Z
URL:https://unswoc.org/wordpress/events/empress-falls-hike-the-mob/
SUMMARY:Cancelled Rain - Empress Falls Hike - w "The Mob"
DESCRIPTION:&nbsp\;\n\n&nbsp\;\n\nHey everyone!\n\nDion and I will be runni
 ng a combined cruisy day hike this Sunday around National Pass in the moun
 tains for us and a bunch from "The Mob" ("an ARC program that exists to we
 lcome international\, interstate and rural students to life as a student a
 t UNSW and to the social side of Sydney and its surrounds.)\n\nThis is a r
 are trip that costs money ($10 ) BUT! you get given your train ticket and 
 lunch so it's easily worth it.\n\nI will email you the booking link after 
 I approve you\n\nWe'll be meeting at Central Station\, get to Hungry Jacks
  by 8am sharp (or aim fro 7:50) and we'll hand out tickets\, as there is a
 n 8:16 train to Wentworth falls and we're not waiting!\n\nThe forecast is 
 good for Sunday at the moment but we'll keep you posted.\n\nYou'll need\n\
 n- No Lunch\, we feed you\n\n- snacks\, lollies\, fruit whatever you want\
 n\n- Clothes\, try avoid jeans\, cotton\, silly things.\n\n- 1.5L water\n\
 n- raincoat (in case it's showery)\n\n- good comfy shoes\, I will send you
  home if you're wearing thongs or sandals\n\n- spare woolen socks for happ
 iness.\n\nCheers\,\n\nBrendan &amp\; Dion\n\n&nbsp\;\n\n&nbsp\;
CATEGORIES:Bushwalking
LOCATION:\, \, 
X-APPLE-STRUCTURED-LOCATION;VALUE=URI;X-ADDRESS=\, ;X-APPLE-RADIUS=100;X-TI
 TLE=:geo:0,0
END:VEVENT
END:VCALENDAR